BEGIN:VCALENDAR
VERSION:2.0
PRODID:City of Bend Calendar Creator
METHOD:PUBLISH
BEGIN:VEVENT
DTSTAMP:20260109T143413
DTSTART:20260113T163000
DTEND:20260113T183000
SUMMARY:Human Rights and Equity Commission
DESCRIPTION:<h2>Notice of Meeting:</h2><p><strong><a href="https://www.bendoregon.gov/government/committees/human-rights-and-equity-commission" target="_blank" rel="noopener">HREC January 13, 2026, agenda</a></strong>.</p><p>The Human Rights and Equity Commission (HREC) will conduct its hybrid meetings via Zoom and in person at City Hall, in the Boardroom, 710 NW Wall Street, from 4:30 to 6:30 pm.</p><p><strong>To Attend by Computer, <a href="https://bendoregon-gov.zoom.us/webinar/register/WN_zcFpLlTgRG-cjX84K8w3Zw" target="_blank" rel="noopener">Pre-Register</a>:</strong></p><p>You will receive an email confirmation with a personalized link informing you how to connect via computer or phone.</p><p><strong>To Attend by Phone (No Pre-Registration Required):<br></strong></p><ul>    <li><strong>&nbsp;</strong><strong>Dial Toll-Free: </strong><a href="tel://18887880099/" title="1-888-788-0099" target="_blank" rel="noopener" id="1-888-788-0099"><b>1-888-788-0099</b></a></li>    <li><b>Webinar ID: </b>848 0615 0847</li>    <li><b>Passcode, if prompted:&nbsp;</b>4732 (HREC)</li></ul><p>The <strong><a href="https://youtube.com/live/nZ3Y_B0pGyI?feature=share" target="_blank" rel="noopener">HREC January 2026, livestream starts at 4:30 pm</a></strong>.</p><h3>Language Assistance Services &amp; Accommodation Information for People with Disabilities</h3><p>You can obtain this information in alternate formats such as Braille, electronic format, etc. Free language assistance services are also available. Please contact us, at <a href="mailto:hrec@bendoregon.gov?subject=hrec@bendoregon.gov" id="hrec@bendoregon.gov" title="hrec@bendoregon.gov"><b>hrec@bendoregon.gov</b></a>. Relay Users Dial 7-1-1. Contacting us with your accommodation 48 to 72 hours in advance will help the City of Bend procure your request, subject to vendor processing time.&nbsp;Thank you!</p><h3>Servicios de asistencia lingüística e información sobre alojamiento para personas con discapacidad</h3><p>Puede obtener esta información en formatos alternativos como Braille, formato electrónico, etc. También disponemos de servicios gratuitos de asistencia lingüística. Póngase en contacto con Gestor del proyecto o creador del documento en correo electrónico <a href="mailto:hrec@bendoregon.gov?subject=hrec@bendoregon.gov" id="hrec@bendoregon.gov" title="hrec@bendoregon.gov"><b>hrec@bendoregon.gov</b></a>. Los usuarios del servicio de retransmisión deben marcar el 7-1-1.<strong></strong></p><p><b><br></b></p>
X-ALT-DESC;FMTTYPE=text/html:<h2>Notice of Meeting:</h2><p><strong><a href="https://www.bendoregon.gov/government/committees/human-rights-and-equity-commission" target="_blank" rel="noopener">HREC January 13, 2026, agenda</a></strong>.</p><p>The Human Rights and Equity Commission (HREC) will conduct its hybrid meetings via Zoom and in person at City Hall, in the Boardroom, 710 NW Wall Street, from 4:30 to 6:30 pm.</p><p><strong>To Attend by Computer, <a href="https://bendoregon-gov.zoom.us/webinar/register/WN_zcFpLlTgRG-cjX84K8w3Zw" target="_blank" rel="noopener">Pre-Register</a>:</strong></p><p>You will receive an email confirmation with a personalized link informing you how to connect via computer or phone.</p><p><strong>To Attend by Phone (No Pre-Registration Required):<br></strong></p><ul>    <li><strong>&nbsp;</strong><strong>Dial Toll-Free: </strong><a href="tel://18887880099/" title="1-888-788-0099" target="_blank" rel="noopener" id="1-888-788-0099"><b>1-888-788-0099</b></a></li>    <li><b>Webinar ID: </b>848 0615 0847</li>    <li><b>Passcode, if prompted:&nbsp;</b>4732 (HREC)</li></ul><p>The <strong><a href="https://youtube.com/live/nZ3Y_B0pGyI?feature=share" target="_blank" rel="noopener">HREC January 2026, livestream starts at 4:30 pm</a></strong>.</p><h3>Language Assistance Services &amp; Accommodation Information for People with Disabilities</h3><p>You can obtain this information in alternate formats such as Braille, electronic format, etc. Free language assistance services are also available. Please contact us, at <a href="mailto:hrec@bendoregon.gov?subject=hrec@bendoregon.gov" id="hrec@bendoregon.gov" title="hrec@bendoregon.gov"><b>hrec@bendoregon.gov</b></a>. Relay Users Dial 7-1-1. Contacting us with your accommodation 48 to 72 hours in advance will help the City of Bend procure your request, subject to vendor processing time.&nbsp;Thank you!</p><h3>Servicios de asistencia lingüística e información sobre alojamiento para personas con discapacidad</h3><p>Puede obtener esta información en formatos alternativos como Braille, formato electrónico, etc. También disponemos de servicios gratuitos de asistencia lingüística. Póngase en contacto con Gestor del proyecto o creador del documento en correo electrónico <a href="mailto:hrec@bendoregon.gov?subject=hrec@bendoregon.gov" id="hrec@bendoregon.gov" title="hrec@bendoregon.gov"><b>hrec@bendoregon.gov</b></a>. Los usuarios del servicio de retransmisión deben marcar el 7-1-1.<strong></strong></p><p><b><br></b></p>
LOCATION:Council Chambers (City Hall)\, 710 NW Wall St Bend\, Oregon 97703
CLASS:PUBLIC
END:VEVENT
END:VCALENDAR
