BEGIN:VCALENDAR
VERSION:2.0
PRODID:City of Bend Calendar Creator
METHOD:PUBLISH
BEGIN:VEVENT
DTSTAMP:20260112T132437
DTSTART:20260116T110000
DTEND:20260116T130000
SUMMARY:Civil Service Commission Meeting
DESCRIPTION:<h2>Meeting Agenda</h2><h3><span style="font-size: 15px;">Civil Service Commission<br></span><span style="font-size: 15px;">January 16, 2026 at 11 a.m.<br></span><span style="font-size: 15px;">Hybrid</span></h3><h3>The public is invited to watch online or in person:</h3><h4>Join Zoom Meeting:&nbsp;<a href="https://us04web.zoom.us/j/71846882728?pwd=amPito0JauszArH7eXRl305HJEyaoo.1" target="_blank" rel="noopener">https://us04web.zoom.us/j/71846882728?pwd=amPito0JauszArH7eXRl305HJEyaoo.1</a>&nbsp;&nbsp;<a href="https://us04web.zoom.us/j/6449135872?pwd=cUVCODJKdEFwaytEWk9zM2FjTmdXUT09&amp;omn=74472499487" target="_blank" style="font-size: 15px;" rel="noopener"><br></a>Meeting ID:&nbsp;718 4688 2728<br>____________________________________________________________________</h4><h3>Meeting Agenda:</h3><h4><ol>    <li>Call to order</li>    <li>Roll Call</li>    <li>Old Business    <ol>        <li>Review <a href="https://bendoregon.prod-as.govaccess.org/home/showpublisheddocument/64832/639038207743730000" target="_blank" rel="noopener">Meeting Minutes – October 22, 2025</a></li>    </ol>    </li>    <li>New Business    <ol>        <li>Discussion of the Support Response Vehicle (SRV) Testing<br>        <ol>            <li>Certification of the SRV List</li>        </ol>        </li>    </ol>    </li>    <li>Good of the Order&nbsp;</li>    <li>Adjourn</li></ol></h4><h3>Accessible Meeting Information</h3><p>This meeting/event location is accessible. Sign language interpreter service, assistive listening devices, materials in alternate format such as Braille, large print, electronic formats<br>and CD Formats, or any other accommodations are available upon advance request. Please contact Makayla Oliver no later than two business days prior to the meeting at moliver@bendoregon.gov or 541-323-8571; Relay Users Dial 7-1-1. Providing, at least, 3 days’ notice prior to the event will help ensure availability.</p>
X-ALT-DESC;FMTTYPE=text/html:<h2>Meeting Agenda</h2><h3><span style="font-size: 15px;">Civil Service Commission<br></span><span style="font-size: 15px;">January 16, 2026 at 11 a.m.<br></span><span style="font-size: 15px;">Hybrid</span></h3><h3>The public is invited to watch online or in person:</h3><h4>Join Zoom Meeting:&nbsp;<a href="https://us04web.zoom.us/j/71846882728?pwd=amPito0JauszArH7eXRl305HJEyaoo.1" target="_blank" rel="noopener">https://us04web.zoom.us/j/71846882728?pwd=amPito0JauszArH7eXRl305HJEyaoo.1</a>&nbsp;&nbsp;<a href="https://us04web.zoom.us/j/6449135872?pwd=cUVCODJKdEFwaytEWk9zM2FjTmdXUT09&amp;omn=74472499487" target="_blank" style="font-size: 15px;" rel="noopener"><br></a>Meeting ID:&nbsp;718 4688 2728<br>____________________________________________________________________</h4><h3>Meeting Agenda:</h3><h4><ol>    <li>Call to order</li>    <li>Roll Call</li>    <li>Old Business    <ol>        <li>Review <a href="https://bendoregon.prod-as.govaccess.org/home/showpublisheddocument/64832/639038207743730000" target="_blank" rel="noopener">Meeting Minutes – October 22, 2025</a></li>    </ol>    </li>    <li>New Business    <ol>        <li>Discussion of the Support Response Vehicle (SRV) Testing<br>        <ol>            <li>Certification of the SRV List</li>        </ol>        </li>    </ol>    </li>    <li>Good of the Order&nbsp;</li>    <li>Adjourn</li></ol></h4><h3>Accessible Meeting Information</h3><p>This meeting/event location is accessible. Sign language interpreter service, assistive listening devices, materials in alternate format such as Braille, large print, electronic formats<br>and CD Formats, or any other accommodations are available upon advance request. Please contact Makayla Oliver no later than two business days prior to the meeting at moliver@bendoregon.gov or 541-323-8571; Relay Users Dial 7-1-1. Providing, at least, 3 days’ notice prior to the event will help ensure availability.</p>
LOCATION:Bend Fire Administration\, 1212 SW Simpson Ave Bend\, Oregon 97702
CLASS:PUBLIC
END:VEVENT
END:VCALENDAR
