BEGIN:VCALENDAR
VERSION:2.0
PRODID:City of Bend Calendar Creator
METHOD:PUBLISH
BEGIN:VEVENT
DTSTAMP:20160825T180041
DTSTART:20140428T173000
DTEND:20140428T235900
SUMMARY:Bend Planning Commission
DESCRIPTION:The April 28th meeting is canceled.
X-ALT-DESC;FMTTYPE=text/html:The April 28th meeting is canceled.
LOCATION:City Hall - City Council Chambers\, 710 NW Wall Street Bend\, Oregon 97701
CLASS:PUBLIC
END:VEVENT
END:VCALENDAR
