BEGIN:VCALENDAR
VERSION:2.0
PRODID:City of Bend Calendar Creator
METHOD:PUBLISH
BEGIN:VEVENT
DTSTAMP:20160825T180041
DTSTART:20140512T173000
DTEND:20140512T235900
SUMMARY:Bend Planning Commission
DESCRIPTION:<p><a href="https://bendoregon.prod-as.govaccess.org/home/showpublisheddocument/16396" target="_blank">Agenda</a></p><p><a href="https://bendoregon.prod-as.govaccess.org/home/showpublisheddocument/16376" target="_blank">Draft Minutes for April 14</a></p>
X-ALT-DESC;FMTTYPE=text/html:<p><a href="https://bendoregon.prod-as.govaccess.org/home/showpublisheddocument/16396" target="_blank">Agenda</a></p><p><a href="https://bendoregon.prod-as.govaccess.org/home/showpublisheddocument/16376" target="_blank">Draft Minutes for April 14</a></p>
LOCATION:City Hall - City Council Chambers\, 710 NW Wall Street Bend\, Oregon 97701
CLASS:PUBLIC
END:VEVENT
END:VCALENDAR
