BEGIN:VCALENDAR
VERSION:2.0
PRODID:City of Bend Calendar Creator
METHOD:PUBLISH
BEGIN:VEVENT
DTSTAMP:20160825T180041
DTSTART:20150210T140000
DTEND:20150210T170000
SUMMARY:Affordable Housing Advisory Committee Meeting
DESCRIPTION:
X-ALT-DESC;FMTTYPE=text/html:
LOCATION:City Hall Council Chambers\, 710 NW Wall St Bend\, Oregon 97701
CLASS:PUBLIC
END:VEVENT
END:VCALENDAR
