BEGIN:VCALENDAR
VERSION:2.0
PRODID:City of Bend Calendar Creator
METHOD:PUBLISH
BEGIN:VEVENT
DTSTAMP:20160825T180041
DTSTART:20151118T120000
DTEND:20151118T140000
SUMMARY:BEDAB Special Meeting
DESCRIPTION:
X-ALT-DESC;FMTTYPE=text/html:
LOCATION:City Council Chambers\, 710 NW Wall St Bend\, Oregon 97701
CLASS:PUBLIC
END:VEVENT
END:VCALENDAR
