BEGIN:VCALENDAR
VERSION:2.0
PRODID:City of Bend Calendar Creator
METHOD:PUBLISH
BEGIN:VEVENT
DTSTAMP:20160825T180041
DTSTART:20111117T140000
DTEND:20111117T153000
SUMMARY:COBAAC Meeting
DESCRIPTION:
X-ALT-DESC;FMTTYPE=text/html:
LOCATION:Board Room - City Hall\, Oregon 
CLASS:PUBLIC
END:VEVENT
END:VCALENDAR
