BEGIN:VCALENDAR
VERSION:2.0
PRODID:City of Bend Calendar Creator
METHOD:PUBLISH
BEGIN:VEVENT
DTSTAMP:20160825T180041
DTSTART:20120226T000000
DTEND:20120226T235900
SUMMARY:COBAAC Meeting
DESCRIPTION:
X-ALT-DESC;FMTTYPE=text/html:
LOCATION:City Hall Board Room\, Oregon 
CLASS:PUBLIC
END:VEVENT
END:VCALENDAR
