BEGIN:VCALENDAR
VERSION:2.0
PRODID:City of Bend Calendar Creator
METHOD:PUBLISH
BEGIN:VEVENT
DTSTAMP:20170531T145121
DTSTART:20170605T120000
DTEND:20170605T140000
SUMMARY:Bend Economic Development Advisory Board Meeting
DESCRIPTION:<a href="https://bendoregon.prod-as.govaccess.org/home/showpublisheddocument/30949/636318389109630000" target="_blank">Agenda</a>
X-ALT-DESC;FMTTYPE=text/html:<a href="https://bendoregon.prod-as.govaccess.org/home/showpublisheddocument/30949/636318389109630000" target="_blank">Agenda</a>
LOCATION:Council Chambers (City Hall)\, 710 NW Wall St Bend\, Oregon 97703
CLASS:PUBLIC
END:VEVENT
END:VCALENDAR
