BEGIN:VCALENDAR
VERSION:2.0
PRODID:City of Bend Calendar Creator
METHOD:PUBLISH
BEGIN:VEVENT
DTSTAMP:20170808T125050
DTSTART:20170809T150000
DTEND:20170809T170000
SUMMARY:Affordable Housing Advisory Committee Meeting
DESCRIPTION:<p><a href="https://bendoregon.prod-as.govaccess.org/home/showpublisheddocument/31752/636377768287130000" target="_blank">Agenda</a></p><p><a href="https://bendoregon.prod-as.govaccess.org/home/showpublisheddocument/31760/636377932587030000" target="_blank">Bend Collaborative Housing Workgroup Middle Market Housing Policy Recommendations report</a></p><p><a href="https://bendoregon.prod-as.govaccess.org/home/showpublisheddocument/31764/636377934402800000" target="_blank">2 page summary of recommendations from report</a></p>
X-ALT-DESC;FMTTYPE=text/html:<p><a href="https://bendoregon.prod-as.govaccess.org/home/showpublisheddocument/31752/636377768287130000" target="_blank">Agenda</a></p><p><a href="https://bendoregon.prod-as.govaccess.org/home/showpublisheddocument/31760/636377932587030000" target="_blank">Bend Collaborative Housing Workgroup Middle Market Housing Policy Recommendations report</a></p><p><a href="https://bendoregon.prod-as.govaccess.org/home/showpublisheddocument/31764/636377934402800000" target="_blank">2 page summary of recommendations from report</a></p>
LOCATION:Council Chambers (City Hall)\, 710 NW Wall St Bend\, Oregon 97703
CLASS:PUBLIC
END:VEVENT
END:VCALENDAR
