BEGIN:VCALENDAR
VERSION:2.0
PRODID:City of Bend Calendar Creator
METHOD:PUBLISH
BEGIN:VEVENT
DTSTAMP:20171103T104311
DTSTART:20171108T140000
DTEND:20171108T160000
SUMMARY:Affordable Housing Advisory Committee Meeting
DESCRIPTION:<p>Please note earlier meeting time.&nbsp; November 8th meeting will start at 2 pm instead of 3 pm.</p><p><a href="https://bendoregon.prod-as.govaccess.org/home/showpublisheddocument/32748/636453025786400000" target="_blank">Agenda</a></p>
X-ALT-DESC;FMTTYPE=text/html:<p>Please note earlier meeting time.&nbsp; November 8th meeting will start at 2 pm instead of 3 pm.</p><p><a href="https://bendoregon.prod-as.govaccess.org/home/showpublisheddocument/32748/636453025786400000" target="_blank">Agenda</a></p>
LOCATION:Council Chambers (City Hall)\, 710 NW Wall St Bend\, Oregon 97703
CLASS:PUBLIC
END:VEVENT
END:VCALENDAR
