BEGIN:VCALENDAR
VERSION:2.0
PRODID:City of Bend Calendar Creator
METHOD:PUBLISH
BEGIN:VEVENT
DTSTAMP:20171212T091314
DTSTART:20171213T150000
DTEND:20171213T170000
SUMMARY:Affordable Housing Advisory Committee Meeting
DESCRIPTION:<a href="https://bendoregon.prod-as.govaccess.org/home/showpublisheddocument/33161/636486667828000000" target="_blank">Agenda</a>
X-ALT-DESC;FMTTYPE=text/html:<a href="https://bendoregon.prod-as.govaccess.org/home/showpublisheddocument/33161/636486667828000000" target="_blank">Agenda</a>
LOCATION:Council Chambers (City Hall)\, 710 NW Wall St Bend\, Oregon 97703
CLASS:PUBLIC
END:VEVENT
END:VCALENDAR
