BEGIN:VCALENDAR
VERSION:2.0
PRODID:City of Bend Calendar Creator
METHOD:PUBLISH
BEGIN:VEVENT
DTSTAMP:20180104T092255
DTSTART:20180228T140000
DTEND:20180228T170000
SUMMARY:Affordable Housing Advisory Committee
DESCRIPTION:Affordable Housing Fee and Community Development Block Grant RFP deliberations
X-ALT-DESC;FMTTYPE=text/html:Affordable Housing Fee and Community Development Block Grant RFP deliberations
LOCATION:Council Chambers (City Hall)\, 710 NW Wall St Bend\, Oregon 97703
CLASS:PUBLIC
END:VEVENT
END:VCALENDAR
