BEGIN:VCALENDAR
VERSION:2.0
PRODID:City of Bend Calendar Creator
METHOD:PUBLISH
BEGIN:VEVENT
DTSTAMP:20160825T180041
DTSTART:20120109T173000
DTEND:20120109T235900
SUMMARY:Bend Area Planning Commission
DESCRIPTION:<p>Supporting Documents:</p><ul>    <li><a href="https://bendoregon.prod-as.govaccess.org/home/showpublisheddocument/6755" target="_blank">Agenda:&nbsp; January 9, 2012 Planning Commission Meeting Agenda</a>&nbsp;<a href="https://bendoregon.prod-as.govaccess.org/home/showpublisheddocument/6754" target="_blank">    <li>Memorandum:&nbsp; Continued Public Hearing on Goal 11 Public Facility Plans (PZ-11-154) </li>    </a></li></ul>
X-ALT-DESC;FMTTYPE=text/html:<p>Supporting Documents:</p><ul>    <li><a href="https://bendoregon.prod-as.govaccess.org/home/showpublisheddocument/6755" target="_blank">Agenda:&nbsp; January 9, 2012 Planning Commission Meeting Agenda</a>&nbsp;<a href="https://bendoregon.prod-as.govaccess.org/home/showpublisheddocument/6754" target="_blank">    <li>Memorandum:&nbsp; Continued Public Hearing on Goal 11 Public Facility Plans (PZ-11-154) </li>    </a></li></ul>
LOCATION:City Hall - City Council Chambers\, 710 NW Wall Street Bend\, Oregon 97701
CLASS:PUBLIC
END:VEVENT
END:VCALENDAR
