BEGIN:VCALENDAR
VERSION:2.0
PRODID:City of Bend Calendar Creator
METHOD:PUBLISH
BEGIN:VEVENT
DTSTAMP:20181010T105416
DTSTART:20181029T183000
DTEND:20181029T200000
SUMMARY:Affordable housing incentives informational meeting
DESCRIPTION:<p>Available City resources for affordable housing developers and service providers, including the Affordable Housing Fund, the CDBG program, Systems Development Charges Exemption, Expedited Permitting, and other affordable housing development incentives will be addressed.</p><p><strong>Organizations that intend to apply for CDBG funds must attend</strong> one of the informational meetings scheduled. Details regarding CDBG project requirements, timeliness requirements, and outcome reporting requirements will be reviewed in the last hour of the presentation.</p>
X-ALT-DESC;FMTTYPE=text/html:<p>Available City resources for affordable housing developers and service providers, including the Affordable Housing Fund, the CDBG program, Systems Development Charges Exemption, Expedited Permitting, and other affordable housing development incentives will be addressed.</p><p><strong>Organizations that intend to apply for CDBG funds must attend</strong> one of the informational meetings scheduled. Details regarding CDBG project requirements, timeliness requirements, and outcome reporting requirements will be reviewed in the last hour of the presentation.</p>
LOCATION:Council Chambers (City Hall)\, 710 NW Wall St Bend\, Oregon 97703
CLASS:PUBLIC
END:VEVENT
END:VCALENDAR
