BEGIN:VCALENDAR
VERSION:2.0
PRODID:City of Bend Calendar Creator
METHOD:PUBLISH
BEGIN:VEVENT
DTSTAMP:20160825T180041
DTSTART:20120315T173000
DTEND:20120315T235900
SUMMARY:Landmarks Commission
DESCRIPTION:An agenda packet for this meeting is not available at this time.&nbsp; Agenda packets are usually provided seven days before each Landmarks Commission meeting.
X-ALT-DESC;FMTTYPE=text/html:An agenda packet for this meeting is not available at this time.&nbsp; Agenda packets are usually provided seven days before each Landmarks Commission meeting.
LOCATION:City Hall - City Council Chambers\, 710 NW Wall Street Bend\, Oregon 97701
CLASS:PUBLIC
END:VEVENT
END:VCALENDAR
