BEGIN:VCALENDAR
VERSION:2.0
PRODID:City of Bend Calendar Creator
METHOD:PUBLISH
BEGIN:VEVENT
DTSTAMP:20190226T122817
DTSTART:20190228T130000
DTEND:20190228T143000
SUMMARY:Rescheduled to March 7th, 2019 - City of Bend Accessibility Advisory Committee February 2019 Meeting
DESCRIPTION:<p>Note: Due to inclement weather COBAAC's February meeting has been rescheduled for March 7th in the Council Chambers at City Hall.&nbsp;</p><p>&nbsp;</p><p>For more information visit the <a href="https://bendoregon.prod-as.govaccess.org/government/committees/accessibility-advisory-committee">Accessibility Advisory Committee's webpage</a>.</p>
X-ALT-DESC;FMTTYPE=text/html:<p>Note: Due to inclement weather COBAAC's February meeting has been rescheduled for March 7th in the Council Chambers at City Hall.&nbsp;</p><p>&nbsp;</p><p>For more information visit the <a href="https://bendoregon.prod-as.govaccess.org/government/committees/accessibility-advisory-committee">Accessibility Advisory Committee's webpage</a>.</p>
LOCATION:Boardroom (City Hall)\, 710 NW Wall St Bend\, Oregon 97703
CLASS:PUBLIC
END:VEVENT
END:VCALENDAR
