BEGIN:VCALENDAR
VERSION:2.0
PRODID:City of Bend Calendar Creator
METHOD:PUBLISH
BEGIN:VEVENT
DTSTAMP:20190214T135259
DTSTART:20190221T173000
DTEND:20190221T193000
SUMMARY:Community open house - affordable housing
DESCRIPTION:<p>The open house will provide information about the <a href="https://www.bendoregon.gov/government/departments/economic-development/affordable-housing-program/consolidated-plan" target="_blank">Consolidated Plan</a>, the City’s five-year plan for funding priorities related to affordable housing and community development programs. It provides community members the opportunity to give input on housing and community development needs. </p><p>Input from the open house will be incorporated into a draft Consolidated Plan that will be discussed at the Affordable Housing Advisory Committee meetings in March and April of 2019. The final draft is expected to be recommended to City Council with a public hearing in May of 2019.</p>
X-ALT-DESC;FMTTYPE=text/html:<p>The open house will provide information about the <a href="https://www.bendoregon.gov/government/departments/economic-development/affordable-housing-program/consolidated-plan" target="_blank">Consolidated Plan</a>, the City’s five-year plan for funding priorities related to affordable housing and community development programs. It provides community members the opportunity to give input on housing and community development needs. </p><p>Input from the open house will be incorporated into a draft Consolidated Plan that will be discussed at the Affordable Housing Advisory Committee meetings in March and April of 2019. The final draft is expected to be recommended to City Council with a public hearing in May of 2019.</p>
LOCATION:Council Chambers (City Hall)\, 710 NW Wall St Bend\, Oregon 97703
CLASS:PUBLIC
END:VEVENT
END:VCALENDAR
