BEGIN:VCALENDAR
VERSION:2.0
PRODID:City of Bend Calendar Creator
METHOD:PUBLISH
BEGIN:VEVENT
DTSTAMP:20190619T143050
DTSTART:20190625T110000
DTEND:20190625T120000
SUMMARY:Affordable Housing Advisory Committee - Policy Worksession
DESCRIPTION:<a href="https://bendoregon.prod-as.govaccess.org/home/showpublisheddocument/42031/636965514381700000" target="_blank">Agenda</a>
X-ALT-DESC;FMTTYPE=text/html:<a href="https://bendoregon.prod-as.govaccess.org/home/showpublisheddocument/42031/636965514381700000" target="_blank">Agenda</a>
LOCATION:Council Chambers (City Hall)\, 710 NW Wall St Bend\, Oregon 97703
CLASS:PUBLIC
END:VEVENT
END:VCALENDAR
