BEGIN:VCALENDAR
VERSION:2.0
PRODID:City of Bend Calendar Creator
METHOD:PUBLISH
BEGIN:VEVENT
DTSTAMP:20190606T104553
DTSTART:20190612T150000
DTEND:20190612T170000
SUMMARY:Affordable Housing Advisory Committee
DESCRIPTION:<a href="https://bendoregon.prod-as.govaccess.org/home/showpublisheddocument/41899/636954146822400000" target="_blank">Agenda</a>
X-ALT-DESC;FMTTYPE=text/html:<a href="https://bendoregon.prod-as.govaccess.org/home/showpublisheddocument/41899/636954146822400000" target="_blank">Agenda</a>
LOCATION:Council Chambers (City Hall)\, 710 NW Wall St Bend\, Oregon 97703
CLASS:PUBLIC
END:VEVENT
END:VCALENDAR
