BEGIN:VCALENDAR
VERSION:2.0
PRODID:City of Bend Calendar Creator
METHOD:PUBLISH
BEGIN:VEVENT
DTSTAMP:20190610T155730
DTSTART:20190627T130000
DTEND:20190627T143000
SUMMARY:City of Bend Accessibility Advisory Committee
DESCRIPTION:For more information visit the <a href="https://bendoregon.prod-as.govaccess.org/government/committees/accessibility-advisory-committee">Accessibility Advisory Committee's webpage</a>.
X-ALT-DESC;FMTTYPE=text/html:For more information visit the <a href="https://bendoregon.prod-as.govaccess.org/government/committees/accessibility-advisory-committee">Accessibility Advisory Committee's webpage</a>.
LOCATION:Boardroom (City Hall)\, 710 NW Wall St Bend\, Oregon 97703
CLASS:PUBLIC
END:VEVENT
END:VCALENDAR
