BEGIN:VCALENDAR
VERSION:2.0
PRODID:City of Bend Calendar Creator
METHOD:PUBLISH
BEGIN:VEVENT
DTSTAMP:20211015T152321
DTSTART:20211025T173000
DTEND:20211025T235900
SUMMARY:Planning Commission
DESCRIPTION:<p>The meeting convenes at 5:30PM on a virtual Zoom platform, due to COVID-19 precautions.</p><p>Join the meeting using the following options:</p><p>Register via Zoom Online Meeting Link:&nbsp;<a href="https://bendoregon-gov.zoom.us/webinar/register/WN_A8jgq83yT0-q1GiZXRX1rA" target="_blank"></a><a href="https://bendoregon-gov.zoom.us/webinar/register/WN_fYSHeMxKR8uzLMx6gL4lFQ" target="_blank">https://bendoregon-gov.zoom.us/webinar/register/WN_fYSHeMxKR8uzLMx6gL4lFQ</a></p><p>Join by phone: Toll-free:1- 888-788-0099 Webinar ID: 895 3769 6730</p><p>The public is invited to watch on-line at:&nbsp;<a href="https://www.bendoregon.gov/government/committees/planning-commission" target="_blank">Bend Planning Commission</a></p><p>Please click&nbsp;<a href="https://bend.granicus.com/GeneratedAgendaViewer.php?view_id=11&amp;event_id=679" target="_blank">here</a>&nbsp;to view the meeting agenda.</p>
X-ALT-DESC;FMTTYPE=text/html:<p>The meeting convenes at 5:30PM on a virtual Zoom platform, due to COVID-19 precautions.</p><p>Join the meeting using the following options:</p><p>Register via Zoom Online Meeting Link:&nbsp;<a href="https://bendoregon-gov.zoom.us/webinar/register/WN_A8jgq83yT0-q1GiZXRX1rA" target="_blank"></a><a href="https://bendoregon-gov.zoom.us/webinar/register/WN_fYSHeMxKR8uzLMx6gL4lFQ" target="_blank">https://bendoregon-gov.zoom.us/webinar/register/WN_fYSHeMxKR8uzLMx6gL4lFQ</a></p><p>Join by phone: Toll-free:1- 888-788-0099 Webinar ID: 895 3769 6730</p><p>The public is invited to watch on-line at:&nbsp;<a href="https://www.bendoregon.gov/government/committees/planning-commission" target="_blank">Bend Planning Commission</a></p><p>Please click&nbsp;<a href="https://bend.granicus.com/GeneratedAgendaViewer.php?view_id=11&amp;event_id=679" target="_blank">here</a>&nbsp;to view the meeting agenda.</p>
LOCATION:Virtual Meeting Platform\, 
CLASS:PUBLIC
END:VEVENT
END:VCALENDAR
