BEGIN:VCALENDAR
VERSION:2.0
PRODID:City of Bend Calendar Creator
METHOD:PUBLISH
BEGIN:VEVENT
DTSTAMP:20210915T135448
DTSTART:20210927T173000
DTEND:20210927T235900
SUMMARY:Planning Commission meeting canceled
DESCRIPTION:<p>The 9/27/21 Planning Commission meeting is canceled due to no items on the agenda. The next meeting will be October 11, 2021.&nbsp;</p>
X-ALT-DESC;FMTTYPE=text/html:<p>The 9/27/21 Planning Commission meeting is canceled due to no items on the agenda. The next meeting will be October 11, 2021.&nbsp;</p>
LOCATION:TBD\, 
CLASS:PUBLIC
END:VEVENT
END:VCALENDAR
