BEGIN:VCALENDAR
VERSION:2.0
PRODID:City of Bend Calendar Creator
METHOD:PUBLISH
BEGIN:VEVENT
DTSTAMP:20210818T082913
DTSTART:20210823T173000
DTEND:20210823T235900
SUMMARY:Planning Commission
DESCRIPTION:<p>5:30pm start time. </p><p>You can provide public comment, unrelated to the hearing topic, during the visitors section. The public can  provide comment, related to the hearing matter, during public testimony. </p><p>If you would like to participate in the meeting, click <a href="https://bendoregon-gov.zoom.us/webinar/register/WN_ccJEz9EETfyck9d3leMwaA" target="_blank">here</a> to register for the meeting.</p><p><a href="https://bend.granicus.com/AgendaViewer.php?view_id=11&amp;event_id=535" target="_blank">Agenda</a></p>
X-ALT-DESC;FMTTYPE=text/html:<p>5:30pm start time. </p><p>You can provide public comment, unrelated to the hearing topic, during the visitors section. The public can  provide comment, related to the hearing matter, during public testimony. </p><p>If you would like to participate in the meeting, click <a href="https://bendoregon-gov.zoom.us/webinar/register/WN_ccJEz9EETfyck9d3leMwaA" target="_blank">here</a> to register for the meeting.</p><p><a href="https://bend.granicus.com/AgendaViewer.php?view_id=11&amp;event_id=535" target="_blank">Agenda</a></p>
LOCATION:virtual\, 
CLASS:PUBLIC
END:VEVENT
END:VCALENDAR
