BEGIN:VCALENDAR
VERSION:2.0
PRODID:City of Bend Calendar Creator
METHOD:PUBLISH
BEGIN:VEVENT
DTSTAMP:20220304T172823
DTSTART:20220314T173000
DTEND:20220314T235900
SUMMARY:Planning Commission
DESCRIPTION:<p>The meeting convenes at 5:30PM on a virtual Zoom platform.</p><p>Join the meeting using the following options:</p><p>Register via Zoom Online Meeting Link:&nbsp;<a href="https://bendoregon-gov.zoom.us/webinar/register/WN_PXnTUDUAQqepGL-Tqp4KDA" target="_blank">https://bendoregon-gov.zoom.us/webinar/register/WN_PXnTUDUAQqepGL-Tqp4KDA</a></p><p>Join by phone: Toll-free:1- 888-788-0099 Webinar ID: 838 7152 8823</p><p>The public is invited to watch on-line at:&nbsp;<a href="https://www.bendoregon.gov/government/committees/planning-commission" target="_blank">Bend Planning Commission</a></p><p>You can view the meeting agenda <a href="https://bend.granicus.com/GeneratedAgendaViewer.php?view_id=11&amp;event_id=697" target="_blank">here</a>.</p>
X-ALT-DESC;FMTTYPE=text/html:<p>The meeting convenes at 5:30PM on a virtual Zoom platform.</p><p>Join the meeting using the following options:</p><p>Register via Zoom Online Meeting Link:&nbsp;<a href="https://bendoregon-gov.zoom.us/webinar/register/WN_PXnTUDUAQqepGL-Tqp4KDA" target="_blank">https://bendoregon-gov.zoom.us/webinar/register/WN_PXnTUDUAQqepGL-Tqp4KDA</a></p><p>Join by phone: Toll-free:1- 888-788-0099 Webinar ID: 838 7152 8823</p><p>The public is invited to watch on-line at:&nbsp;<a href="https://www.bendoregon.gov/government/committees/planning-commission" target="_blank">Bend Planning Commission</a></p><p>You can view the meeting agenda <a href="https://bend.granicus.com/GeneratedAgendaViewer.php?view_id=11&amp;event_id=697" target="_blank">here</a>.</p>
LOCATION:Virtual Meeting Platform\, 
CLASS:PUBLIC
END:VEVENT
END:VCALENDAR
