BEGIN:VCALENDAR
VERSION:2.0
PRODID:City of Bend Calendar Creator
METHOD:PUBLISH
BEGIN:VEVENT
DTSTAMP:20210824T051316
DTSTART:20210913T173000
DTEND:20210913T235900
SUMMARY:Planning Commission meeting canceled
DESCRIPTION:The September 13, 2021 Planning Commission meeting is canceled. Then next meeting is September 27, 2021.
X-ALT-DESC;FMTTYPE=text/html:The September 13, 2021 Planning Commission meeting is canceled. Then next meeting is September 27, 2021.
LOCATION:TBD\, 
CLASS:PUBLIC
END:VEVENT
END:VCALENDAR
