BEGIN:VCALENDAR
VERSION:2.0
PRODID:City of Bend Calendar Creator
METHOD:PUBLISH
BEGIN:VEVENT
DTSTAMP:20210803T145212
DTSTART:20210809T173000
DTEND:20210809T235900
SUMMARY:Planning Commission meeting canceled
DESCRIPTION:The 8/9/21 Planning Commission meeting is canceled. The next meeting is 8/23/21. Thank you.&nbsp;
X-ALT-DESC;FMTTYPE=text/html:The 8/9/21 Planning Commission meeting is canceled. The next meeting is 8/23/21. Thank you.&nbsp;
LOCATION:TBD\, 
CLASS:PUBLIC
END:VEVENT
END:VCALENDAR
