BEGIN:VCALENDAR
VERSION:2.0
PRODID:City of Bend Calendar Creator
METHOD:PUBLISH
BEGIN:VEVENT
DTSTAMP:20200702T094025
DTSTART:20200706T120000
DTEND:20200706T140000
SUMMARY:Bend Economic Development Advisory Board (BEDAB) Meeting
DESCRIPTION:<p><strong><p _rdeditor_exists="1"><a href="https://bendoregon.prod-as.govaccess.org/home/showpublisheddocument/46859/637292795628330000" target="_blank">Agenda</a></p>This meeting will be held via WebEx</strong>.&nbsp; Meeting start time is 12:00 pm; however, please&nbsp;join a bit early&nbsp;so that any technical issues can be resolved before the meeting begins.&nbsp;</p><p>Public comments for this meeting will be via email only.&nbsp; Please send any comments to&nbsp;<a>kmontgomery@bendoregon.gov</a>&nbsp;prior to 10:00 am&nbsp;on Monday, July&nbsp;6th&nbsp;. &nbsp;Comments will be shared with committee members.</p><p>To join&nbsp;<b>via Computer</b>&nbsp;(WebEx), click the following link:</p><p><a href="https://bendoregon.webex.com/bendoregon/onstage/g.php?MTID=ebe98c6d46d5e7581e645539f0c808d31">https://bendoregon.webex.com/bendoregon/onstage/g.php?MTID=ebe98c6d46d5e7581e645539f0c808d31</a></p><p>Meeting password if prompted:&nbsp;BEDABJuly20 </p><p>Hints:</p><ul>    <li style='color: rgb(64, 64, 64); font-family: "Times New Roman",serif; font-size: 12pt; font-style: normal; font-weight: normal;'>    <p style='background: white; color: rgb(0, 0, 0); font-family: "Times New Roman",serif; font-size: 12pt; font-style: normal; font-weight: normal; margin-top: 0in; margin-bottom: 12pt;'>Some users have had more success using Chrome web browser than Internet Explorer.&nbsp; &nbsp;</p>    </li>    <li style='color: rgb(64, 64, 64); font-family: "Times New Roman",serif; font-size: 12pt; font-style: normal; font-weight: normal;'>    <p style='background: white; color: rgb(0, 0, 0); font-family: "Times New Roman",serif; font-size: 12pt; font-style: normal; font-weight: normal; margin-top: 0in; margin-bottom: 12pt;'>Try this link now to test your system:&nbsp;&nbsp;<a href="https://nam03.safelinks.protection.outlook.com/?url=https%3A%2F%2Fhelp.webex.com%2Fen-us%2Fnti2f6w%2FWebex-Meetings-Join-a-Test-Meeting&amp;data=02%7C01%7Ckmontgomery%40bendoregon.gov%7C075bc85e93ef4f1cb0f008d7f5ecc059%7C1c15334815ef4708aebf1e25e57dc400%7C0%7C0%7C637248269534980304&amp;sdata=eXlko44vayPwGcCiR2Pj4kc6MB9PtD%2FfHtbeD9gBdVY%3D&amp;reserved=0">https://help.webex.com/en-us/nti2f6w/Webex-Meetings-Join-a-Test-Meeting</a></p>    </li>    <li style='color: rgb(64, 64, 64); font-family: "Times New Roman",serif; font-size: 12pt; font-style: normal; font-weight: normal;'>    <p style='background: white; color: rgb(0, 0, 0); font-family: "Times New Roman",serif; font-size: 12pt; font-style: normal; font-weight: normal; margin-top: 0in; margin-bottom: 12pt;'>Some have experienced 10 -15 minutes delays when first starting the link to get all applications (sound/video/chat) running.&nbsp;</p>    </li></ul><p>Or you may&nbsp;<b>call</b>&nbsp;into the meeting and enter the access code:</p><p>United States Toll Free: 1-855-282-6330</p><p>Access code: 146&nbsp;145 2663&nbsp;##</p><p>&nbsp;</p><p>If you have&nbsp;<b>technical difficulties</b>&nbsp;connecting to the meeting, call 541-410-9341.</p><p>&nbsp;</p><p>&nbsp;</p><p>&nbsp;</p>
X-ALT-DESC;FMTTYPE=text/html:<p><strong><p _rdeditor_exists="1"><a href="https://bendoregon.prod-as.govaccess.org/home/showpublisheddocument/46859/637292795628330000" target="_blank">Agenda</a></p>This meeting will be held via WebEx</strong>.&nbsp; Meeting start time is 12:00 pm; however, please&nbsp;join a bit early&nbsp;so that any technical issues can be resolved before the meeting begins.&nbsp;</p><p>Public comments for this meeting will be via email only.&nbsp; Please send any comments to&nbsp;<a>kmontgomery@bendoregon.gov</a>&nbsp;prior to 10:00 am&nbsp;on Monday, July&nbsp;6th&nbsp;. &nbsp;Comments will be shared with committee members.</p><p>To join&nbsp;<b>via Computer</b>&nbsp;(WebEx), click the following link:</p><p><a href="https://bendoregon.webex.com/bendoregon/onstage/g.php?MTID=ebe98c6d46d5e7581e645539f0c808d31">https://bendoregon.webex.com/bendoregon/onstage/g.php?MTID=ebe98c6d46d5e7581e645539f0c808d31</a></p><p>Meeting password if prompted:&nbsp;BEDABJuly20 </p><p>Hints:</p><ul>    <li style='color: rgb(64, 64, 64); font-family: "Times New Roman",serif; font-size: 12pt; font-style: normal; font-weight: normal;'>    <p style='background: white; color: rgb(0, 0, 0); font-family: "Times New Roman",serif; font-size: 12pt; font-style: normal; font-weight: normal; margin-top: 0in; margin-bottom: 12pt;'>Some users have had more success using Chrome web browser than Internet Explorer.&nbsp; &nbsp;</p>    </li>    <li style='color: rgb(64, 64, 64); font-family: "Times New Roman",serif; font-size: 12pt; font-style: normal; font-weight: normal;'>    <p style='background: white; color: rgb(0, 0, 0); font-family: "Times New Roman",serif; font-size: 12pt; font-style: normal; font-weight: normal; margin-top: 0in; margin-bottom: 12pt;'>Try this link now to test your system:&nbsp;&nbsp;<a href="https://nam03.safelinks.protection.outlook.com/?url=https%3A%2F%2Fhelp.webex.com%2Fen-us%2Fnti2f6w%2FWebex-Meetings-Join-a-Test-Meeting&amp;data=02%7C01%7Ckmontgomery%40bendoregon.gov%7C075bc85e93ef4f1cb0f008d7f5ecc059%7C1c15334815ef4708aebf1e25e57dc400%7C0%7C0%7C637248269534980304&amp;sdata=eXlko44vayPwGcCiR2Pj4kc6MB9PtD%2FfHtbeD9gBdVY%3D&amp;reserved=0">https://help.webex.com/en-us/nti2f6w/Webex-Meetings-Join-a-Test-Meeting</a></p>    </li>    <li style='color: rgb(64, 64, 64); font-family: "Times New Roman",serif; font-size: 12pt; font-style: normal; font-weight: normal;'>    <p style='background: white; color: rgb(0, 0, 0); font-family: "Times New Roman",serif; font-size: 12pt; font-style: normal; font-weight: normal; margin-top: 0in; margin-bottom: 12pt;'>Some have experienced 10 -15 minutes delays when first starting the link to get all applications (sound/video/chat) running.&nbsp;</p>    </li></ul><p>Or you may&nbsp;<b>call</b>&nbsp;into the meeting and enter the access code:</p><p>United States Toll Free: 1-855-282-6330</p><p>Access code: 146&nbsp;145 2663&nbsp;##</p><p>&nbsp;</p><p>If you have&nbsp;<b>technical difficulties</b>&nbsp;connecting to the meeting, call 541-410-9341.</p><p>&nbsp;</p><p>&nbsp;</p><p>&nbsp;</p>
LOCATION:Via WebEx - details to follow\, 
CLASS:PUBLIC
END:VEVENT
END:VCALENDAR
