BEGIN:VCALENDAR
VERSION:2.0
PRODID:City of Bend Calendar Creator
METHOD:PUBLISH
BEGIN:VEVENT
DTSTAMP:20200916T090228
DTSTART:20201001T100000
DTEND:20201001T113000
SUMMARY:Affordable Housing Program Training - Session 2
DESCRIPTION:<p>The City of Bend is beginning its allocation process for resources that benefit low-income residents. Available resources include the Affordable Housing Fund and the Community Development Block Grant (CDBG) program.</p><p>Before Requests for Proposals are released to apply for these funds, the City of Bend will host informational meetings that describe each available resource and answer questions regarding system development charge exemptions, expedited permitting and other affordable housing development incentives. The informational meetings will take place virtually on Monday, September 21, 2020, at 3:00 p.m. <b><u>or</u></b> on Thursday, October 1, 2020, at 10:00 a.m. The virtual meeting information is detailed below. The same information will be covered at each meeting, and a potential applicant should only attend one meeting. </p><p>Non-profit organizations intending to apply for CDBG funds <u>must</u> attend one of the scheduled informational meetings. Details regarding CDBG project requirements, timeliness requirements, and outcome reporting requirements will be reviewed in the last hour of the presentation. If a non-profit organization that intends to apply cannot participate in the scheduled informational meeting, please contact Racheal Baker, the Affordable Housing Coordinator, at <a>rbaker@bendoregon.gov</a>.</p><p>Requests for Proposals (RFPs) will be issued on Friday, October 2<sup>nd</sup>. A question and answer session regarding the RFPs will be available virtually on Thursday, October 22<sup>nd</sup> at 3:00 p.m. This virtual meeting information will be provided at the informational meetings. The Requests for Proposals will be due by 5:00 p.m. on Monday, November 2<sup>nd</sup>. The <a href="https://www.bendoregon.gov/government/citizen-committees/affordable-housing-advisory-committee">Affordable Housing Advisory Committee</a> will deliberate the allocations of funding available at their public meetings from December to February. Funding recommendations will be made to City Council in February and April of 2021. A detailed description of the Affordable Housing Program Funding Schedule is <a href="https://bendoregon.prod-as.govaccess.org/home/showpublisheddocument/47532/637358429392830000" target="_blank">available here</a>.</p><p>If you have questions about the allocation informational meetings or the allocation process, please contact me at (541) 312-4915 or <a>rbaker@bendoregon.gov</a>.</p><p>*****************************************************************************************************************************************************************************</p><p><b>Affordable Housing Program Training</b> – Session 2 – <u>October 1, 2020 at 10 a.m.</u></p><p>This will be a virtual training. Meeting time is 10:00 a.m.; however, please join a bit earlier (5-10 minutes) so that any technical issues can be resolved before the meeting begins. Some have experienced 10-15 minute delays when first starting the link to get all applications (sound/video/chat) running.</p><p>We wanted to ensure that you were able to use Webex on your systems. Some users have had more success using Chrome web browser rather than Explorer.&nbsp; Please click this link to perform a test online meeting. Please do this significantly <b><u>before</u></b> the training event. <a href="https://help.webex.com/en-us/nti2f6w/Webex-Meetings-Join-a-Test-Meeting" shash="BTXIfndnF22JX08800cEqht5aJoRy+WlwsdVIaslmbBwAR6p/jatu3ahb9bhJ50UK5lcsrsumo8/kJIU7eh9sLdg+5hlVc44osiRAK/4Hb6JaG/zZVf3Zu5zHZ+PR+ZfRk1dPhM+pjWHWPjmjrEygViq7uOHQ2doWJDYetMwmkA=" originalsrc="https://help.webex.com/en-us/nti2f6w/Webex-Meetings-Join-a-Test-Meeting">https://help.webex.com/en-us/nti2f6w/Webex-Meetings-Join-a-Test-Meeting</a></p><p><strong>Training meeting link: <a href="https://bendoregon.webex.com/bendoregon/onstage/g.php?MTID=e9bf481df037de483f6dec3d520eca373" shash="P62H8+slaoO9Apbx3gc8w2+Ha2u5Wom10WoWq7RSRXvSciEd4L++1R0uZxWDsEZY2DemxaaHs4B1jAY11VKTOi2y7GaDgCOpe6NyRaY6J274+chuorAljEUfgZMiaH9lLoWSkUg6wKUEe8j2otYO1aizI1SCItdJniPHgOrKUDA=" originalsrc="https://bendoregon.webex.com/bendoregon/onstage/g.php?MTID=e9bf481df037de483f6dec3d520eca373">https://bendoregon.webex.com/bendoregon/onstage/g.php?MTID=e9bf481df037de483f6dec3d520eca373</a></strong></p><p>Event password (if asked): g8DxrMzdM39</p><p>Join by phone:</p><p>&nbsp;&nbsp;&nbsp;&nbsp;&nbsp;&nbsp;&nbsp;&nbsp;&nbsp;&nbsp;&nbsp;&nbsp;&nbsp; Toll-free:&nbsp;&nbsp;&nbsp;&nbsp;&nbsp;&nbsp;&nbsp;&nbsp;&nbsp;&nbsp;&nbsp; 1-855-282-6330</p><p>&nbsp;&nbsp;&nbsp;&nbsp;&nbsp;&nbsp;&nbsp;&nbsp;&nbsp;&nbsp;&nbsp;&nbsp;&nbsp; Access Code:&nbsp;&nbsp;&nbsp;&nbsp; 146-146-0511##</p><p>If you have <b>technical difficulties</b> connecting to the meeting, call 541-410-9341.</p><p>You may watch this meeting live or later at <a href="https://nam11.safelinks.protection.outlook.com/?url=https%3A%2F%2Fyoutu.be%2F0443xVnP8rM&amp;data=02%7C01%7Ckmontgomery%40bendoregon.gov%7C746ba20db8304fea96a508d859d40734%7C1c15334815ef4708aebf1e25e57dc400%7C0%7C0%7C637358114614772293&amp;sdata=QwJ8Jk4VGSTQTs7KDEO1TSmsqQAH0gM7Ag89MbhMBxA%3D&amp;reserved=0" shash="SoDzfruZBxJJgqq9nKYygBTigePD2j2EhRqH/1VFb1wkBeRENimsYs5POfarJ85q354chYX6oRhvRrABS/56sq0flA6asILNpFU41DAwws/1asGydNtEFbSiBC7s0p+iFiSA59w3qGPjQcFALGEKbduF1oeOambdH45zaOa6WqM=" originalsrc="https://youtu.be/0443xVnP8rM">https://youtu.be/0443xVnP8rM</a>.</p>
X-ALT-DESC;FMTTYPE=text/html:<p>The City of Bend is beginning its allocation process for resources that benefit low-income residents. Available resources include the Affordable Housing Fund and the Community Development Block Grant (CDBG) program.</p><p>Before Requests for Proposals are released to apply for these funds, the City of Bend will host informational meetings that describe each available resource and answer questions regarding system development charge exemptions, expedited permitting and other affordable housing development incentives. The informational meetings will take place virtually on Monday, September 21, 2020, at 3:00 p.m. <b><u>or</u></b> on Thursday, October 1, 2020, at 10:00 a.m. The virtual meeting information is detailed below. The same information will be covered at each meeting, and a potential applicant should only attend one meeting. </p><p>Non-profit organizations intending to apply for CDBG funds <u>must</u> attend one of the scheduled informational meetings. Details regarding CDBG project requirements, timeliness requirements, and outcome reporting requirements will be reviewed in the last hour of the presentation. If a non-profit organization that intends to apply cannot participate in the scheduled informational meeting, please contact Racheal Baker, the Affordable Housing Coordinator, at <a>rbaker@bendoregon.gov</a>.</p><p>Requests for Proposals (RFPs) will be issued on Friday, October 2<sup>nd</sup>. A question and answer session regarding the RFPs will be available virtually on Thursday, October 22<sup>nd</sup> at 3:00 p.m. This virtual meeting information will be provided at the informational meetings. The Requests for Proposals will be due by 5:00 p.m. on Monday, November 2<sup>nd</sup>. The <a href="https://www.bendoregon.gov/government/citizen-committees/affordable-housing-advisory-committee">Affordable Housing Advisory Committee</a> will deliberate the allocations of funding available at their public meetings from December to February. Funding recommendations will be made to City Council in February and April of 2021. A detailed description of the Affordable Housing Program Funding Schedule is <a href="https://bendoregon.prod-as.govaccess.org/home/showpublisheddocument/47532/637358429392830000" target="_blank">available here</a>.</p><p>If you have questions about the allocation informational meetings or the allocation process, please contact me at (541) 312-4915 or <a>rbaker@bendoregon.gov</a>.</p><p>*****************************************************************************************************************************************************************************</p><p><b>Affordable Housing Program Training</b> – Session 2 – <u>October 1, 2020 at 10 a.m.</u></p><p>This will be a virtual training. Meeting time is 10:00 a.m.; however, please join a bit earlier (5-10 minutes) so that any technical issues can be resolved before the meeting begins. Some have experienced 10-15 minute delays when first starting the link to get all applications (sound/video/chat) running.</p><p>We wanted to ensure that you were able to use Webex on your systems. Some users have had more success using Chrome web browser rather than Explorer.&nbsp; Please click this link to perform a test online meeting. Please do this significantly <b><u>before</u></b> the training event. <a href="https://help.webex.com/en-us/nti2f6w/Webex-Meetings-Join-a-Test-Meeting" shash="BTXIfndnF22JX08800cEqht5aJoRy+WlwsdVIaslmbBwAR6p/jatu3ahb9bhJ50UK5lcsrsumo8/kJIU7eh9sLdg+5hlVc44osiRAK/4Hb6JaG/zZVf3Zu5zHZ+PR+ZfRk1dPhM+pjWHWPjmjrEygViq7uOHQ2doWJDYetMwmkA=" originalsrc="https://help.webex.com/en-us/nti2f6w/Webex-Meetings-Join-a-Test-Meeting">https://help.webex.com/en-us/nti2f6w/Webex-Meetings-Join-a-Test-Meeting</a></p><p><strong>Training meeting link: <a href="https://bendoregon.webex.com/bendoregon/onstage/g.php?MTID=e9bf481df037de483f6dec3d520eca373" shash="P62H8+slaoO9Apbx3gc8w2+Ha2u5Wom10WoWq7RSRXvSciEd4L++1R0uZxWDsEZY2DemxaaHs4B1jAY11VKTOi2y7GaDgCOpe6NyRaY6J274+chuorAljEUfgZMiaH9lLoWSkUg6wKUEe8j2otYO1aizI1SCItdJniPHgOrKUDA=" originalsrc="https://bendoregon.webex.com/bendoregon/onstage/g.php?MTID=e9bf481df037de483f6dec3d520eca373">https://bendoregon.webex.com/bendoregon/onstage/g.php?MTID=e9bf481df037de483f6dec3d520eca373</a></strong></p><p>Event password (if asked): g8DxrMzdM39</p><p>Join by phone:</p><p>&nbsp;&nbsp;&nbsp;&nbsp;&nbsp;&nbsp;&nbsp;&nbsp;&nbsp;&nbsp;&nbsp;&nbsp;&nbsp; Toll-free:&nbsp;&nbsp;&nbsp;&nbsp;&nbsp;&nbsp;&nbsp;&nbsp;&nbsp;&nbsp;&nbsp; 1-855-282-6330</p><p>&nbsp;&nbsp;&nbsp;&nbsp;&nbsp;&nbsp;&nbsp;&nbsp;&nbsp;&nbsp;&nbsp;&nbsp;&nbsp; Access Code:&nbsp;&nbsp;&nbsp;&nbsp; 146-146-0511##</p><p>If you have <b>technical difficulties</b> connecting to the meeting, call 541-410-9341.</p><p>You may watch this meeting live or later at <a href="https://nam11.safelinks.protection.outlook.com/?url=https%3A%2F%2Fyoutu.be%2F0443xVnP8rM&amp;data=02%7C01%7Ckmontgomery%40bendoregon.gov%7C746ba20db8304fea96a508d859d40734%7C1c15334815ef4708aebf1e25e57dc400%7C0%7C0%7C637358114614772293&amp;sdata=QwJ8Jk4VGSTQTs7KDEO1TSmsqQAH0gM7Ag89MbhMBxA%3D&amp;reserved=0" shash="SoDzfruZBxJJgqq9nKYygBTigePD2j2EhRqH/1VFb1wkBeRENimsYs5POfarJ85q354chYX6oRhvRrABS/56sq0flA6asILNpFU41DAwws/1asGydNtEFbSiBC7s0p+iFiSA59w3qGPjQcFALGEKbduF1oeOambdH45zaOa6WqM=" originalsrc="https://youtu.be/0443xVnP8rM">https://youtu.be/0443xVnP8rM</a>.</p>
LOCATION:Via WebEx: see details below\, 
CLASS:PUBLIC
END:VEVENT
END:VCALENDAR
