BEGIN:VCALENDAR
VERSION:2.0
PRODID:City of Bend Calendar Creator
METHOD:PUBLISH
BEGIN:VEVENT
DTSTAMP:20210204T120755
DTSTART:20210210T150000
DTEND:20210210T170000
SUMMARY:Affordable Housing Advisory Committee (AHAC) Meeting
DESCRIPTION:<p><a href="https://bendoregon.prod-as.govaccess.org/home/showpublisheddocument/48777/637479600259530000" target="_blank">Agenda</a></p><p>Committee deliberations for CDBG services&nbsp;funding.</p><p><strong><strong>This meeting will be held via Zoom (see link below)</strong>.&nbsp;&nbsp;</strong>Meeting start time is 3:00 pm; however, please&nbsp;join&nbsp;a bit earlier&nbsp;so that any technical issues can be resolved before the meeting begins.&nbsp; Or you may&nbsp;watch (no participation)&nbsp;the&nbsp;meeting&nbsp;via a livestream option by <a href="https://youtu.be/kBEkeI6jaCI" target="_blank">clicking here</a>.</p><p>Public comments for this meeting will be accepted two ways.&nbsp;</p><ul>    <li>To comment live at the meeting, you&nbsp;<strong>must</strong>&nbsp;join the meeting&nbsp;via Zoom (see link below).&nbsp;</li>    <li>Or send comments to&nbsp;<a>kmontgomery@bendoregon.gov</a>&nbsp;prior to&nbsp;12:00 pm&nbsp;on Wednesday,&nbsp;February 10. &nbsp;Comments will be shared with committee members.&nbsp;    <ul>        <li>If you plan to call into meeting&nbsp;via a phone or watch via YouTube, use this method.</li>    </ul>    </li></ul><p>To join&nbsp;<b>via Computer</b>&nbsp;(Zoom) click the following link:</p><table width="100%" border="0" cellspacing="0" cellpadding="0">    <tbody>        <tr>            <td nowrap="" valign="top">            <p><strong><a href="https://nam11.safelinks.protection.outlook.com/?url=https%3A%2F%2Fbendoregon-gov.zoom.us%2Fj%2F92863665687%3Fpwd%3DcElPR0Q4M1hIanM4U29VRi9XdXhGUT09&amp;data=04%7C01%7Ckmontgomery%40bendoregon.gov%7Cc8d076db486a438988cb08d8c87993aa%7C1c15334815ef4708aebf1e25e57dc400%7C0%7C0%7C637479771776046968%7CUnknown%7CTWFpbGZsb3d8eyJWIjoiMC4wLjAwMDAiLCJQIjoiV2luMzIiLCJBTiI6Ik1haWwiLCJXVCI6Mn0%3D%7C1000&amp;sdata=FFgK6w9o1Z%2B3iHJMC1X6fIw4IpbJwjogeORTq46lmmQ%3D&amp;reserved=0" target="_blank">https://bendoregon-gov.zoom.us/j/92863665687?pwd =cElPR0Q4M1hIanM4U29VRi9XdXhGUT09</a> </strong></p>            </td>        </tr>    </tbody></table><p>&nbsp;Passcode (if required):&nbsp;&nbsp; 213491</p><p>Or you may<strong>&nbsp;call</strong>&nbsp;into the meeting and enter the Webinar ID:</p><p>Call (<strong>toll charges may apply</strong>):&nbsp; 1-888-788-0099 or 1-253-215-8782</p><p>&nbsp;&nbsp;&nbsp;&nbsp;&nbsp;&nbsp;&nbsp;&nbsp;&nbsp;&nbsp;&nbsp;&nbsp;&nbsp;&nbsp;&nbsp; Webinar ID:&nbsp; &nbsp;928 6366 5687##</p><p>To watch live or later via YouTube: &nbsp;<a href="https://youtu.be/kBEkeI6jaCI" target="_blank">https://youtu.be/kBEkeI6jaCI</a></p><p>If you have&nbsp;<b>technical difficulties</b>&nbsp;connecting to the meeting, call 541-410-9341</p><p>&nbsp;</p>
X-ALT-DESC;FMTTYPE=text/html:<p><a href="https://bendoregon.prod-as.govaccess.org/home/showpublisheddocument/48777/637479600259530000" target="_blank">Agenda</a></p><p>Committee deliberations for CDBG services&nbsp;funding.</p><p><strong><strong>This meeting will be held via Zoom (see link below)</strong>.&nbsp;&nbsp;</strong>Meeting start time is 3:00 pm; however, please&nbsp;join&nbsp;a bit earlier&nbsp;so that any technical issues can be resolved before the meeting begins.&nbsp; Or you may&nbsp;watch (no participation)&nbsp;the&nbsp;meeting&nbsp;via a livestream option by <a href="https://youtu.be/kBEkeI6jaCI" target="_blank">clicking here</a>.</p><p>Public comments for this meeting will be accepted two ways.&nbsp;</p><ul>    <li>To comment live at the meeting, you&nbsp;<strong>must</strong>&nbsp;join the meeting&nbsp;via Zoom (see link below).&nbsp;</li>    <li>Or send comments to&nbsp;<a>kmontgomery@bendoregon.gov</a>&nbsp;prior to&nbsp;12:00 pm&nbsp;on Wednesday,&nbsp;February 10. &nbsp;Comments will be shared with committee members.&nbsp;    <ul>        <li>If you plan to call into meeting&nbsp;via a phone or watch via YouTube, use this method.</li>    </ul>    </li></ul><p>To join&nbsp;<b>via Computer</b>&nbsp;(Zoom) click the following link:</p><table width="100%" border="0" cellspacing="0" cellpadding="0">    <tbody>        <tr>            <td nowrap="" valign="top">            <p><strong><a href="https://nam11.safelinks.protection.outlook.com/?url=https%3A%2F%2Fbendoregon-gov.zoom.us%2Fj%2F92863665687%3Fpwd%3DcElPR0Q4M1hIanM4U29VRi9XdXhGUT09&amp;data=04%7C01%7Ckmontgomery%40bendoregon.gov%7Cc8d076db486a438988cb08d8c87993aa%7C1c15334815ef4708aebf1e25e57dc400%7C0%7C0%7C637479771776046968%7CUnknown%7CTWFpbGZsb3d8eyJWIjoiMC4wLjAwMDAiLCJQIjoiV2luMzIiLCJBTiI6Ik1haWwiLCJXVCI6Mn0%3D%7C1000&amp;sdata=FFgK6w9o1Z%2B3iHJMC1X6fIw4IpbJwjogeORTq46lmmQ%3D&amp;reserved=0" target="_blank">https://bendoregon-gov.zoom.us/j/92863665687?pwd =cElPR0Q4M1hIanM4U29VRi9XdXhGUT09</a> </strong></p>            </td>        </tr>    </tbody></table><p>&nbsp;Passcode (if required):&nbsp;&nbsp; 213491</p><p>Or you may<strong>&nbsp;call</strong>&nbsp;into the meeting and enter the Webinar ID:</p><p>Call (<strong>toll charges may apply</strong>):&nbsp; 1-888-788-0099 or 1-253-215-8782</p><p>&nbsp;&nbsp;&nbsp;&nbsp;&nbsp;&nbsp;&nbsp;&nbsp;&nbsp;&nbsp;&nbsp;&nbsp;&nbsp;&nbsp;&nbsp; Webinar ID:&nbsp; &nbsp;928 6366 5687##</p><p>To watch live or later via YouTube: &nbsp;<a href="https://youtu.be/kBEkeI6jaCI" target="_blank">https://youtu.be/kBEkeI6jaCI</a></p><p>If you have&nbsp;<b>technical difficulties</b>&nbsp;connecting to the meeting, call 541-410-9341</p><p>&nbsp;</p>
LOCATION:Virtual meeting - see details below\, 
CLASS:PUBLIC
END:VEVENT
END:VCALENDAR
