BEGIN:VCALENDAR
VERSION:2.0
PRODID:City of Bend Calendar Creator
METHOD:PUBLISH
BEGIN:VEVENT
DTSTAMP:20220307T100421
DTSTART:20220315T180000
DTEND:20220315T235900
SUMMARY:Landmarks Commission - canceled
DESCRIPTION:<p>The Landmarks Commission&nbsp;meeting scheduled for Tuesday, March 15th has been <a href="https://www.bendoregon.gov/home/showpublisheddocument/52533/637822439574554387" target="_blank">canceled</a>. Apologies for any inconvenience. </p><p>The next scheduled Bend Landmarks Meeting is Tuesday April 19, 2022. Thank you.</p><p>&nbsp;</p>
X-ALT-DESC;FMTTYPE=text/html:<p>The Landmarks Commission&nbsp;meeting scheduled for Tuesday, March 15th has been <a href="https://www.bendoregon.gov/home/showpublisheddocument/52533/637822439574554387" target="_blank">canceled</a>. Apologies for any inconvenience. </p><p>The next scheduled Bend Landmarks Meeting is Tuesday April 19, 2022. Thank you.</p><p>&nbsp;</p>
LOCATION:virtual meeting platform\, 
CLASS:PUBLIC
END:VEVENT
END:VCALENDAR
