BEGIN:VCALENDAR
VERSION:2.0
PRODID:City of Bend Calendar Creator
METHOD:PUBLISH
BEGIN:VEVENT
DTSTAMP:20220406T092521
DTSTART:20220215T170000
DTEND:20220215T235900
SUMMARY:Landmarks Commission 
DESCRIPTION:<p>The meeting convenes at 5:00PM on a virtual Zoom platform, due to COVID-19 precautions. </p><p>Join the meeting using the following options:</p><p>Register via Zoom Online Meeting Link: <a href="https://bendoregon-gov.zoom.us/webinar/register/WN_RY5K5vzXRCGsWnE4U43APQ" target="_blank">https://bendoregon-gov.zoom.us/webinar/register/WN_RY5K5vzXRCGsWnE4U43APQ</a> </p><p>Join by phone: Toll-free:1- 888-788-0099 Webinar ID: 872 0400 7633&nbsp; Passcode: 662381</p><p>The public is invited to watch on-line at: <a href="https://youtu.be/SQuGtRgd5cw" target="_blank">https://youtu.be/SQuGtRgd5cw</a></p><p>Please click&nbsp;<a href="https://www.bendoregon.gov/home/showpublisheddocument/52179/637799260278651480" target="_blank">here</a>&nbsp;to view the meeting agenda.</p>
X-ALT-DESC;FMTTYPE=text/html:<p>The meeting convenes at 5:00PM on a virtual Zoom platform, due to COVID-19 precautions. </p><p>Join the meeting using the following options:</p><p>Register via Zoom Online Meeting Link: <a href="https://bendoregon-gov.zoom.us/webinar/register/WN_RY5K5vzXRCGsWnE4U43APQ" target="_blank">https://bendoregon-gov.zoom.us/webinar/register/WN_RY5K5vzXRCGsWnE4U43APQ</a> </p><p>Join by phone: Toll-free:1- 888-788-0099 Webinar ID: 872 0400 7633&nbsp; Passcode: 662381</p><p>The public is invited to watch on-line at: <a href="https://youtu.be/SQuGtRgd5cw" target="_blank">https://youtu.be/SQuGtRgd5cw</a></p><p>Please click&nbsp;<a href="https://www.bendoregon.gov/home/showpublisheddocument/52179/637799260278651480" target="_blank">here</a>&nbsp;to view the meeting agenda.</p>
LOCATION:Virtual Meeting Platform\, 
CLASS:PUBLIC
END:VEVENT
END:VCALENDAR
