BEGIN:VCALENDAR
VERSION:2.0
PRODID:City of Bend Calendar Creator
METHOD:PUBLISH
BEGIN:VEVENT
DTSTAMP:20210323T164948
DTSTART:20210316T113000
DTEND:20210316T130000
SUMMARY:Bend MPO Policy Board 
DESCRIPTION:<p>View the Agenda and Packet on the <a href="https://bendoregon.prod-as.govaccess.org/government/committees/mpo-policy-board">MPO Policy Board Web Page</a></p><p>This meeting is open to the public.&nbsp; All are welcome.</p><p style="margin-left: 40px;"><strong>Register in advance for this webinar:<br><a href="https://bendoregon-gov.zoom.us/webinar/register/WN_cWolYmk6RXCho8G5j_I52A" target="_blank">https://bendoregon-gov.zoom.us/webinar/register/WN_cWolYmk6RXCho8G5j_I52A</a><br><br></strong>After registering, you will receive a confirmation email containing information about joining the webinar or call in options.</p><p style="margin-left: 40px;">To Join by Phone:&nbsp;888 788 0099 (Toll Free) &nbsp;Enter Webinar ID:&nbsp;966 4687 0862</p><p style="margin-left: 40px;"><strong>YouTube Stream Option:&nbsp;</strong><a href="https://youtu.be/OnRX1xWe_Rw"></a><a href="https://youtu.be/xFMQhilJxYk">https://youtu.be/xFMQhilJxYk</a></p><p style="margin-left: 40px;">Event Passcode: bmpo&nbsp;<br><em>The password is not typically required except on limited tablets and browsers.</em></p><p><em></em></p><p>Bend Metropolitan Planning Organization (MPO) Policy Board Meetings are typically the 3rd Tuesday of each month from 11:30 AM - 1:00 PM. Be sure to check the agenda for each meeting as locations and times may vary.&nbsp;</p><h2>Accessible Meeting Information&nbsp;</h2><p>This meeting event/location is accessible. Sign language, interpreter service, assistive listening devices, materials in alternate format, such as Braille, large print, electronic formats, or any other accommodations are available upon advance request. Please contact Jovi Anderson at (541) 693-2122, janderson@bendoregon.gov and/or fax (541) 389-2245. Providing at least 3 day’s notice prior to the event will help ensure availability.</p><p>&nbsp;</p>
X-ALT-DESC;FMTTYPE=text/html:<p>View the Agenda and Packet on the <a href="https://bendoregon.prod-as.govaccess.org/government/committees/mpo-policy-board">MPO Policy Board Web Page</a></p><p>This meeting is open to the public.&nbsp; All are welcome.</p><p style="margin-left: 40px;"><strong>Register in advance for this webinar:<br><a href="https://bendoregon-gov.zoom.us/webinar/register/WN_cWolYmk6RXCho8G5j_I52A" target="_blank">https://bendoregon-gov.zoom.us/webinar/register/WN_cWolYmk6RXCho8G5j_I52A</a><br><br></strong>After registering, you will receive a confirmation email containing information about joining the webinar or call in options.</p><p style="margin-left: 40px;">To Join by Phone:&nbsp;888 788 0099 (Toll Free) &nbsp;Enter Webinar ID:&nbsp;966 4687 0862</p><p style="margin-left: 40px;"><strong>YouTube Stream Option:&nbsp;</strong><a href="https://youtu.be/OnRX1xWe_Rw"></a><a href="https://youtu.be/xFMQhilJxYk">https://youtu.be/xFMQhilJxYk</a></p><p style="margin-left: 40px;">Event Passcode: bmpo&nbsp;<br><em>The password is not typically required except on limited tablets and browsers.</em></p><p><em></em></p><p>Bend Metropolitan Planning Organization (MPO) Policy Board Meetings are typically the 3rd Tuesday of each month from 11:30 AM - 1:00 PM. Be sure to check the agenda for each meeting as locations and times may vary.&nbsp;</p><h2>Accessible Meeting Information&nbsp;</h2><p>This meeting event/location is accessible. Sign language, interpreter service, assistive listening devices, materials in alternate format, such as Braille, large print, electronic formats, or any other accommodations are available upon advance request. Please contact Jovi Anderson at (541) 693-2122, janderson@bendoregon.gov and/or fax (541) 389-2245. Providing at least 3 day’s notice prior to the event will help ensure availability.</p><p>&nbsp;</p>
LOCATION:Virtual Meeting Platform\, Web Bend\, Oregon 97703
CLASS:PUBLIC
END:VEVENT
END:VCALENDAR
