BEGIN:VCALENDAR
VERSION:2.0
PRODID:City of Bend Calendar Creator
METHOD:PUBLISH
BEGIN:VEVENT
DTSTAMP:20210412T120837
DTSTART:20210420T113000
DTEND:20210420T130000
SUMMARY:Bend MPO Policy Board
DESCRIPTION:<p>View the Agenda and Packet on the&nbsp;<a href="https://www.bendoregon.gov/?navid=1537">MPO Policy Board Web Page</a></p><p>This meeting is open to the public.&nbsp; All are welcome.</p><p><strong>Register in advance for this meeting:<br><a href="https://bendoregon-gov.zoom.us/webinar/register/WN_YJ58oNjaQHiA3nzGm4Xi1g" target="_blank">https://bendoregon-gov.zoom.us/webinar/register/WN_YJ58oNjaQHiA3nzGm4Xi1g</a><br><br></strong>After registering, you will receive a confirmation email containing information about joining the webinar or call in options.</p><p>To Join by Phone:&nbsp;888 788 0099 (Toll Free) &nbsp;Enter Webinar ID:974 8482 2817</p><p><strong>YouTube Stream Option:&nbsp;</strong>coming soon</p><p>Event Passcode: bmpo&nbsp;<br><em>The password is not typically required except on limited tablets and browsers.</em></p><p>NOTICE OF BUDGET HEARING</p><p>A meeting of the Bend Metropolitan Planning Organization (BMPO) Policy Board will be held on Tuesday, April 20, 2021.</p><p>The purpose of this meeting is to discuss the BMPO budget for the annual period July 1, 2021 through June 30, 2022, as approved by the BMPO Budget Committee on March 23, 2021. A copy of the budget may be obtained online at:&nbsp;&nbsp;<a href="http://www.bendoregon.gov/mpobudget">www.bendoregon.gov/mpobudget</a></p><p>This is a public meeting. Any person may appear at the meeting and discuss the proposed programs with the BMPO Policy Board. To access the meeting, view the agenda and meeting link at www.bendoregon.</p><p>The Bend MPO is devoted to creating a public meeting events, materials and communications that are accessible, if additional formatting or a physical location requests are needed, please contact Jovi Anderson at (541) 693-2122,&nbsp;<a href="mailto:&#106;&#97;&#110;&#100;&#101;&#114;&#115;&#111;&#110;&#64;&#98;&#101;&#110;&#100;&#111;&#114;&#101;&#103;&#111;&#110;&#46;&#103;&#111;&#118;">janderson@bendoregon.gov</a>&nbsp; and/or TTY (541) 389-2245.&nbsp;&nbsp; Providing at least 3 days’ notice prior to the event will help ensure availability of services requested.</p><p>&nbsp;</p><p><em></em></p><p>Bend Metropolitan Planning Organization (MPO) Policy Board Meetings are typically the 3rd Tuesday of each month from 11:30 AM - 1:00 PM. Be sure to check the agenda for each meeting as locations and times may vary.&nbsp;</p><h2>Accessible Meeting Information&nbsp;</h2><p>This meeting event/location is accessible. Sign language, interpreter service, assistive listening devices, materials in alternate format, such as Braille, large print, electronic formats, or any other accommodations are available upon advance request. Please contact Jovi Anderson at (541) 693-2122, janderson@bendoregon.gov and/or fax (541) 389-2245. Providing at least 3 day’s notice prior to the event will help ensure availability.</p><p>&nbsp;</p><p>&nbsp;</p><p>&nbsp;</p>
X-ALT-DESC;FMTTYPE=text/html:<p>View the Agenda and Packet on the&nbsp;<a href="https://www.bendoregon.gov/?navid=1537">MPO Policy Board Web Page</a></p><p>This meeting is open to the public.&nbsp; All are welcome.</p><p><strong>Register in advance for this meeting:<br><a href="https://bendoregon-gov.zoom.us/webinar/register/WN_YJ58oNjaQHiA3nzGm4Xi1g" target="_blank">https://bendoregon-gov.zoom.us/webinar/register/WN_YJ58oNjaQHiA3nzGm4Xi1g</a><br><br></strong>After registering, you will receive a confirmation email containing information about joining the webinar or call in options.</p><p>To Join by Phone:&nbsp;888 788 0099 (Toll Free) &nbsp;Enter Webinar ID:974 8482 2817</p><p><strong>YouTube Stream Option:&nbsp;</strong>coming soon</p><p>Event Passcode: bmpo&nbsp;<br><em>The password is not typically required except on limited tablets and browsers.</em></p><p>NOTICE OF BUDGET HEARING</p><p>A meeting of the Bend Metropolitan Planning Organization (BMPO) Policy Board will be held on Tuesday, April 20, 2021.</p><p>The purpose of this meeting is to discuss the BMPO budget for the annual period July 1, 2021 through June 30, 2022, as approved by the BMPO Budget Committee on March 23, 2021. A copy of the budget may be obtained online at:&nbsp;&nbsp;<a href="http://www.bendoregon.gov/mpobudget">www.bendoregon.gov/mpobudget</a></p><p>This is a public meeting. Any person may appear at the meeting and discuss the proposed programs with the BMPO Policy Board. To access the meeting, view the agenda and meeting link at www.bendoregon.</p><p>The Bend MPO is devoted to creating a public meeting events, materials and communications that are accessible, if additional formatting or a physical location requests are needed, please contact Jovi Anderson at (541) 693-2122,&nbsp;<a href="mailto:&#106;&#97;&#110;&#100;&#101;&#114;&#115;&#111;&#110;&#64;&#98;&#101;&#110;&#100;&#111;&#114;&#101;&#103;&#111;&#110;&#46;&#103;&#111;&#118;">janderson@bendoregon.gov</a>&nbsp; and/or TTY (541) 389-2245.&nbsp;&nbsp; Providing at least 3 days’ notice prior to the event will help ensure availability of services requested.</p><p>&nbsp;</p><p><em></em></p><p>Bend Metropolitan Planning Organization (MPO) Policy Board Meetings are typically the 3rd Tuesday of each month from 11:30 AM - 1:00 PM. Be sure to check the agenda for each meeting as locations and times may vary.&nbsp;</p><h2>Accessible Meeting Information&nbsp;</h2><p>This meeting event/location is accessible. Sign language, interpreter service, assistive listening devices, materials in alternate format, such as Braille, large print, electronic formats, or any other accommodations are available upon advance request. Please contact Jovi Anderson at (541) 693-2122, janderson@bendoregon.gov and/or fax (541) 389-2245. Providing at least 3 day’s notice prior to the event will help ensure availability.</p><p>&nbsp;</p><p>&nbsp;</p><p>&nbsp;</p>
LOCATION:
CLASS:PUBLIC
END:VEVENT
END:VCALENDAR
