BEGIN:VCALENDAR
VERSION:2.0
PRODID:City of Bend Calendar Creator
METHOD:PUBLISH
BEGIN:VEVENT
DTSTAMP:20160825T180041
DTSTART:20120213T173000
DTEND:20120213T235900
SUMMARY:Bend Planning Commission
DESCRIPTION:<p><a href="https://bendoregon.prod-as.govaccess.org/?navid=52&parent=7097" target="_self">Supporting Documents</a></p><p>&nbsp;</p>
X-ALT-DESC;FMTTYPE=text/html:<p><a href="https://bendoregon.prod-as.govaccess.org/?navid=52&parent=7097" target="_self">Supporting Documents</a></p><p>&nbsp;</p>
LOCATION:City Hall - City Council Chambers\, 710 NW Wall Street Bend\, Oregon 97701
CLASS:PUBLIC
END:VEVENT
END:VCALENDAR
