BEGIN:VCALENDAR
VERSION:2.0
PRODID:City of Bend Calendar Creator
METHOD:PUBLISH
BEGIN:VEVENT
DTSTAMP:20210407T103300
DTSTART:20210414T150000
DTEND:20210414T170000
SUMMARY:CANCELLED:  Affordable Housing Advisory Committee (AHAC) Meeting
DESCRIPTION:April AHAC meeting has been cancelled.&nbsp; Next meeting will be held on Wednesday, May 12th starting at 3 pm.
X-ALT-DESC;FMTTYPE=text/html:April AHAC meeting has been cancelled.&nbsp; Next meeting will be held on Wednesday, May 12th starting at 3 pm.
LOCATION:
CLASS:PUBLIC
END:VEVENT
END:VCALENDAR
