BEGIN:VCALENDAR
VERSION:2.0
PRODID:City of Bend Calendar Creator
METHOD:PUBLISH
BEGIN:VEVENT
DTSTAMP:20210429T130748
DTSTART:20210505T100000
DTEND:20210505T120000
SUMMARY:Canceled - Bend MPO Technical Advisory Committee - Canceled
DESCRIPTION:<p>The May 2021&nbsp;Bend MPO Technical Advisory Committee (TAC)meeting is canceled.&nbsp; Please view the&nbsp;<a href="https://www.bendoregon.gov/?navid=122" target="_blank">TAC Web Page</a>.for more informaiton.&nbsp; </p><p style="margin-left: 40px;">&nbsp;</p><p>To access email notification for MPO meetings, sign up&nbsp;<a href="https://www.bendoregon.gov/government/committees/mpo-technical-advisory-committee/-loadingmode-EditContent/-fsiteid-1?navid=19">here</a>&nbsp;and choose either Bend MPO Policy Board or Bend MPO Technical Advisory Committee.</p>
X-ALT-DESC;FMTTYPE=text/html:<p>The May 2021&nbsp;Bend MPO Technical Advisory Committee (TAC)meeting is canceled.&nbsp; Please view the&nbsp;<a href="https://www.bendoregon.gov/?navid=122" target="_blank">TAC Web Page</a>.for more informaiton.&nbsp; </p><p style="margin-left: 40px;">&nbsp;</p><p>To access email notification for MPO meetings, sign up&nbsp;<a href="https://www.bendoregon.gov/government/committees/mpo-technical-advisory-committee/-loadingmode-EditContent/-fsiteid-1?navid=19">here</a>&nbsp;and choose either Bend MPO Policy Board or Bend MPO Technical Advisory Committee.</p>
LOCATION:Virtual Meeting Platform\, Web Bend\, Oregon 97703
CLASS:PUBLIC
END:VEVENT
END:VCALENDAR
