BEGIN:VCALENDAR
VERSION:2.0
PRODID:City of Bend Calendar Creator
METHOD:PUBLISH
BEGIN:VEVENT
DTSTAMP:20210902T153830
DTSTART:20210918T180000
DTEND:20210918T190000
SUMMARY:Peace Service: Peace Begins With Us | Servicio de paz: la paz comienza con nosotros
DESCRIPTION:<p><b>Peace Service: Peace Begins with Us<br>Saturday, September 18,&nbsp;</b><b>6 – 7 p.m.<br>Host:&nbsp;</b><i><a href="https://sites.google.com/view/interfaithnetwork" target="_blank">Interfaith Network of Central Oregon</a><br></i><strong>Location: </strong><i>Zoom Online Gathering</i></p><p>The Interfaith Network of Central Oregon will be hosting a free Peace Service on Saturday, September 18th at 6 p.m. via Zoom. Representatives of diverse religious, spiritual and cultural backgrounds and communities will offer prayers, statements and/or songs of Peace. This event is appropriate for all ages.</p><p> Join Zoom Meeting <b><a href="https://us02web.zoom.us/j/87103878320?pwd=UlU3WTcyUmNOT0hTWFB3bmFYL0tsZz09">https://us02web.zoom.us/j/87103878320?pwd=UlU3WTcyUmNOT0hTWFB3bmFYL0tsZz09</a></b><br>Meeting ID: 871 0387 8320<br>Passcode: Peace</p><p><b>View more Welcoming Week Events at&nbsp;<a href="https://www.bendoregon.gov/?navid=1635">bendoregon.gov/welcomingweek</a>.</b></p><p><b><hr></b></p><p><b>Servicio de paz: la paz comienza con nosotros<br>Sábado 18 de Septiembre,&nbsp;</b><b>6 a 7&nbsp;p.&nbsp;m. <br></b><span style="font-weight: bold;"><b>Anfitrión:&nbsp;</b></span><i><a href="https://sites.google.com/view/interfaithnetwork" target="_blank">Interfaith Network of Central Oregon</a></i><i style="font-weight: bold;">&nbsp;<br></i><span style="font-weight: bold;">Localización:</span><i style="font-weight: bold;">&nbsp;</i><i>reunión en línea por Zoom</i></p><p>The Interfaith Network of Central Oregon presentará un servicio de paz el sábado 18 de septiembre a las 6&nbsp;p.&nbsp;m. a través de Zoom. Representantes de diversas comunidades y antecedentes religiosos, espirituales y culturales ofrecerán oraciones, discursos y canciones de Paz. Este evento es adecuado para todas las edades.</p><p>Unirse a la reunión de Zoom:&nbsp;<a href="https://us02web.zoom.us/j/87103878320?pwd=UlU3WTcyUmNOT0hTWFB3bmFYL0tsZz09"><strong>https://us02web.zoom.us/j/87103878320?pwd=UlU3WTcyUmNOT0hTWFB3bmFYL0tsZz09</strong></a><br>ID de reunión:&nbsp;871 0387 8320<br>Contraseña:&nbsp;Peace</p><p><strong>Vea más eventos de la Semana de Bienvenida en&nbsp;<a href="http://bendoregon.gov/bienvenido" target="_blank">bendoregon.gov/bienvenido</a>.</strong></p>
X-ALT-DESC;FMTTYPE=text/html:<p><b>Peace Service: Peace Begins with Us<br>Saturday, September 18,&nbsp;</b><b>6 – 7 p.m.<br>Host:&nbsp;</b><i><a href="https://sites.google.com/view/interfaithnetwork" target="_blank">Interfaith Network of Central Oregon</a><br></i><strong>Location: </strong><i>Zoom Online Gathering</i></p><p>The Interfaith Network of Central Oregon will be hosting a free Peace Service on Saturday, September 18th at 6 p.m. via Zoom. Representatives of diverse religious, spiritual and cultural backgrounds and communities will offer prayers, statements and/or songs of Peace. This event is appropriate for all ages.</p><p> Join Zoom Meeting <b><a href="https://us02web.zoom.us/j/87103878320?pwd=UlU3WTcyUmNOT0hTWFB3bmFYL0tsZz09">https://us02web.zoom.us/j/87103878320?pwd=UlU3WTcyUmNOT0hTWFB3bmFYL0tsZz09</a></b><br>Meeting ID: 871 0387 8320<br>Passcode: Peace</p><p><b>View more Welcoming Week Events at&nbsp;<a href="https://www.bendoregon.gov/?navid=1635">bendoregon.gov/welcomingweek</a>.</b></p><p><b><hr></b></p><p><b>Servicio de paz: la paz comienza con nosotros<br>Sábado 18 de Septiembre,&nbsp;</b><b>6 a 7&nbsp;p.&nbsp;m. <br></b><span style="font-weight: bold;"><b>Anfitrión:&nbsp;</b></span><i><a href="https://sites.google.com/view/interfaithnetwork" target="_blank">Interfaith Network of Central Oregon</a></i><i style="font-weight: bold;">&nbsp;<br></i><span style="font-weight: bold;">Localización:</span><i style="font-weight: bold;">&nbsp;</i><i>reunión en línea por Zoom</i></p><p>The Interfaith Network of Central Oregon presentará un servicio de paz el sábado 18 de septiembre a las 6&nbsp;p.&nbsp;m. a través de Zoom. Representantes de diversas comunidades y antecedentes religiosos, espirituales y culturales ofrecerán oraciones, discursos y canciones de Paz. Este evento es adecuado para todas las edades.</p><p>Unirse a la reunión de Zoom:&nbsp;<a href="https://us02web.zoom.us/j/87103878320?pwd=UlU3WTcyUmNOT0hTWFB3bmFYL0tsZz09"><strong>https://us02web.zoom.us/j/87103878320?pwd=UlU3WTcyUmNOT0hTWFB3bmFYL0tsZz09</strong></a><br>ID de reunión:&nbsp;871 0387 8320<br>Contraseña:&nbsp;Peace</p><p><strong>Vea más eventos de la Semana de Bienvenida en&nbsp;<a href="http://bendoregon.gov/bienvenido" target="_blank">bendoregon.gov/bienvenido</a>.</strong></p>
LOCATION:Virtual Meeting Platform\, Web Bend\, Oregon 97703
CLASS:PUBLIC
END:VEVENT
END:VCALENDAR
