BEGIN:VCALENDAR
VERSION:2.0
PRODID:City of Bend Calendar Creator
METHOD:PUBLISH
BEGIN:VEVENT
DTSTAMP:20210901T145124
DTSTART:20210916T163000
DTEND:20210916T183000
SUMMARY:Multicultural Art Exhibition | Exhibición de arte multicultural
DESCRIPTION:<p><b>Multicultural Art Exhibition<br></b><b>Thursday, September 16, 4:30 – 6:30 p.m.</b><i> <br></i><strong>Host: </strong><i><a href="https://envirocenter.org/" target="_blank">The Environmental Center</a><br></i><strong>Location:</strong><i> The Environmental Center, 16 NW Kansas Ave, Bend, OR</i></p><p>Join us at The Environmental Center in downtown Bend for a Multicultural Art Exhibit. Experience live poetry, music, and creative arts by local BILAPOC, LGBTQ+ artists. Attendees can also tour The Environmental Center’s Learning &amp; Demonstration Garden, and participate in educational activities offered in both Spanish and English. You will also get the opportunity to practice your creative skills during our live art demonstration. This year's theme is Coming Together. We invite community members who practice any of the various creative arts to participate.</p><p><b>View more Welcoming Week Events at&nbsp;<a href="https://www.bendoregon.gov/?navid=1635">bendoregon.gov/welcomingweek</a>.</b></p><p><b><hr></b></p><p><b>Exhibición de arte multicultural <br></b><b>Jueves 16 de Septiembre, 4:30 a 6:30&nbsp;p.&nbsp;m.</b><i> <br><b></b></i><b>Anfitrión:&nbsp;</b><i><b></b><a href="https://envirocenter.org/" target="_blank">The Environmental Center</a><br></i><strong>Localización:&nbsp;</strong><em>The Environmental Center,&nbsp;</em><i>16 NW Kansas Ave, Bend</i></p><p>Acompáñenos en The Environmental Center en el centro de Bend para una exhibición de arte multicultural. Experimente en vivo poesía, música y artes creativas de nuestros artistas locales BILAPOC, LGBTQ+. Los asistentes también pueden hacer un recorrido por el Jardín de aprendizaje y demostración de The Environmental Center y participar en actividades educativas ofrecidas en inglés y español. También tendrá la oportunidad de practicar sus destrezas creativas durante nuestra demostración de arte en vivo. El tema de este año es “Coming Together” (reunirnos). Invitamos a participar a los miembros de la comunidad que practiquen cualquiera de las diferentes artes creativas.</p><p><strong>Vea más eventos de la Semana de Bienvenida en&nbsp;<a href="http://bendoregon.gov/bienvenido" target="_blank">bendoregon.gov/bienvenido</a>.</strong></p><p><div ng-binding"="" ng-bind-html="viewModel.content.content"><div><strong><br></strong></div><div></div></div></p><p>&nbsp;</p>
X-ALT-DESC;FMTTYPE=text/html:<p><b>Multicultural Art Exhibition<br></b><b>Thursday, September 16, 4:30 – 6:30 p.m.</b><i> <br></i><strong>Host: </strong><i><a href="https://envirocenter.org/" target="_blank">The Environmental Center</a><br></i><strong>Location:</strong><i> The Environmental Center, 16 NW Kansas Ave, Bend, OR</i></p><p>Join us at The Environmental Center in downtown Bend for a Multicultural Art Exhibit. Experience live poetry, music, and creative arts by local BILAPOC, LGBTQ+ artists. Attendees can also tour The Environmental Center’s Learning &amp; Demonstration Garden, and participate in educational activities offered in both Spanish and English. You will also get the opportunity to practice your creative skills during our live art demonstration. This year's theme is Coming Together. We invite community members who practice any of the various creative arts to participate.</p><p><b>View more Welcoming Week Events at&nbsp;<a href="https://www.bendoregon.gov/?navid=1635">bendoregon.gov/welcomingweek</a>.</b></p><p><b><hr></b></p><p><b>Exhibición de arte multicultural <br></b><b>Jueves 16 de Septiembre, 4:30 a 6:30&nbsp;p.&nbsp;m.</b><i> <br><b></b></i><b>Anfitrión:&nbsp;</b><i><b></b><a href="https://envirocenter.org/" target="_blank">The Environmental Center</a><br></i><strong>Localización:&nbsp;</strong><em>The Environmental Center,&nbsp;</em><i>16 NW Kansas Ave, Bend</i></p><p>Acompáñenos en The Environmental Center en el centro de Bend para una exhibición de arte multicultural. Experimente en vivo poesía, música y artes creativas de nuestros artistas locales BILAPOC, LGBTQ+. Los asistentes también pueden hacer un recorrido por el Jardín de aprendizaje y demostración de The Environmental Center y participar en actividades educativas ofrecidas en inglés y español. También tendrá la oportunidad de practicar sus destrezas creativas durante nuestra demostración de arte en vivo. El tema de este año es “Coming Together” (reunirnos). Invitamos a participar a los miembros de la comunidad que practiquen cualquiera de las diferentes artes creativas.</p><p><strong>Vea más eventos de la Semana de Bienvenida en&nbsp;<a href="http://bendoregon.gov/bienvenido" target="_blank">bendoregon.gov/bienvenido</a>.</strong></p><p><div ng-binding"="" ng-bind-html="viewModel.content.content"><div><strong><br></strong></div><div></div></div></p><p>&nbsp;</p>
LOCATION:The Environmental Center\, 16 NW Kansas Avenue Bend\, Oregon 97701
CLASS:PUBLIC
END:VEVENT
END:VCALENDAR
