BEGIN:VCALENDAR
VERSION:2.0
PRODID:City of Bend Calendar Creator
METHOD:PUBLISH
BEGIN:VEVENT
DTSTAMP:20210901T145235
DTSTART:20210917T173000
DTEND:20210917T203000
SUMMARY:Take-home Loteria Family Game Night | Noche de juego en familia, Lotería para llevarse a casa
DESCRIPTION:<p><b>Take-home Loteria Family Game Night<br>Friday, September 17,&nbsp;</b><b>5:30 – 8:30 p.m. <br>Host:&nbsp;</b><i><a href="https://www.bendoregon.gov/government/departments/police#!/" target="_blank">Bend Police Department</a><br></i><strong>Location: </strong>Bend Police Station,&nbsp;<i>555 NE 15<sup>th</sup> St, Bend</i></p><p>The Bend Police Department (BPD) will host a “rolling drive-thru” for families to pick-up, take-home game night packages at the police station. Each package includes BPD resources and information, a Loteria game, snacks, and some police swag. A few packages will include surprise prizes from BILAPOC-owned businesses. Attendees will not have to leave their vehicles and packages will be delivered by masked staff.</p><p><b>View more Welcoming Week Events at&nbsp;<a href="https://www.bendoregon.gov/?navid=1635">bendoregon.gov/welcomingweek</a>.</b></p><p><b><hr></b></p><p><b>Noche de juego en familia, Lotería para llevarse a casa<br>Viernes 17 de Septiembre,&nbsp;</b><b>5:30 a 8:30 p.&nbsp;m. <br><b>Anfitrión:&nbsp;</b></b><i><a href="https://www.bendoregon.gov/government/departments/police#!/" target="_blank">Departamento de Policía de Bend</a><br></i><strong>Localización: </strong><i>Bend Police Station,&nbsp;</i><i>555 NE 15<sup>th</sup> St, Bend</i></p><p>El Departamento de Policía de Bend (<i>Bend Police Department</i>, BPD) trazará un recorrido para que las familias vayan en auto y recojan y se lleven a casa paquetes para noches de juego en la estación de policía. Cada paquete incluye recursos e información del BPD, un juego de lotería, bocadillos y algunos botines de policía. Algunos paquetes incluirán premios sorpresa de empresas cuyos propietarios pertenecen al grupo de BILAPOC. Los asistentes no tendrán que bajar de sus vehículos y los paquetes serán entregados por personal usando mascarillas.</p><p><strong>Vea más eventos de la Semana de Bienvenida en&nbsp;<a href="http://bendoregon.gov/bienvenido" target="_blank">bendoregon.gov/bienvenido</a>.</strong></p><p><div ng-binding"="" ng-bind-html="viewModel.content.content"><div><strong><br></strong></div><div></div></div></p><p>&nbsp;</p>
X-ALT-DESC;FMTTYPE=text/html:<p><b>Take-home Loteria Family Game Night<br>Friday, September 17,&nbsp;</b><b>5:30 – 8:30 p.m. <br>Host:&nbsp;</b><i><a href="https://www.bendoregon.gov/government/departments/police#!/" target="_blank">Bend Police Department</a><br></i><strong>Location: </strong>Bend Police Station,&nbsp;<i>555 NE 15<sup>th</sup> St, Bend</i></p><p>The Bend Police Department (BPD) will host a “rolling drive-thru” for families to pick-up, take-home game night packages at the police station. Each package includes BPD resources and information, a Loteria game, snacks, and some police swag. A few packages will include surprise prizes from BILAPOC-owned businesses. Attendees will not have to leave their vehicles and packages will be delivered by masked staff.</p><p><b>View more Welcoming Week Events at&nbsp;<a href="https://www.bendoregon.gov/?navid=1635">bendoregon.gov/welcomingweek</a>.</b></p><p><b><hr></b></p><p><b>Noche de juego en familia, Lotería para llevarse a casa<br>Viernes 17 de Septiembre,&nbsp;</b><b>5:30 a 8:30 p.&nbsp;m. <br><b>Anfitrión:&nbsp;</b></b><i><a href="https://www.bendoregon.gov/government/departments/police#!/" target="_blank">Departamento de Policía de Bend</a><br></i><strong>Localización: </strong><i>Bend Police Station,&nbsp;</i><i>555 NE 15<sup>th</sup> St, Bend</i></p><p>El Departamento de Policía de Bend (<i>Bend Police Department</i>, BPD) trazará un recorrido para que las familias vayan en auto y recojan y se lleven a casa paquetes para noches de juego en la estación de policía. Cada paquete incluye recursos e información del BPD, un juego de lotería, bocadillos y algunos botines de policía. Algunos paquetes incluirán premios sorpresa de empresas cuyos propietarios pertenecen al grupo de BILAPOC. Los asistentes no tendrán que bajar de sus vehículos y los paquetes serán entregados por personal usando mascarillas.</p><p><strong>Vea más eventos de la Semana de Bienvenida en&nbsp;<a href="http://bendoregon.gov/bienvenido" target="_blank">bendoregon.gov/bienvenido</a>.</strong></p><p><div ng-binding"="" ng-bind-html="viewModel.content.content"><div><strong><br></strong></div><div></div></div></p><p>&nbsp;</p>
LOCATION:Bend Police Department\, 555 NE 15th St Bend\, Oregon 97701
CLASS:PUBLIC
END:VEVENT
END:VCALENDAR
