BEGIN:VCALENDAR
VERSION:2.0
PRODID:City of Bend Calendar Creator
METHOD:PUBLISH
BEGIN:VEVENT
DTSTAMP:20160825T180041
DTSTART:20120528T173000
DTEND:20120528T235900
SUMMARY:Bend Planning Commission
DESCRIPTION:<p>May 28, 2012 meeting has been cancelled</p><p><a href="https://bendoregon.prod-as.govaccess.org/home/showpublisheddocument/8402" target="_blank">2012 May 28 PC Agenda</a></p>
X-ALT-DESC;FMTTYPE=text/html:<p>May 28, 2012 meeting has been cancelled</p><p><a href="https://bendoregon.prod-as.govaccess.org/home/showpublisheddocument/8402" target="_blank">2012 May 28 PC Agenda</a></p>
LOCATION:City Hall - City Council Chambers\, 710 NW Wall Street Bend\, Oregon 97701
CLASS:PUBLIC
END:VEVENT
END:VCALENDAR
