BEGIN:VCALENDAR
VERSION:2.0
PRODID:City of Bend Calendar Creator
METHOD:PUBLISH
BEGIN:VEVENT
DTSTAMP:20160825T180041
DTSTART:20120227T173000
DTEND:20120227T235900
SUMMARY:Bend Planning Commission
DESCRIPTION:&nbsp;<a href="https://bendoregon.prod-as.govaccess.org/?navid=52&parent=7240" target="_self">Planning Commission Meeting Materials</a>
X-ALT-DESC;FMTTYPE=text/html:&nbsp;<a href="https://bendoregon.prod-as.govaccess.org/?navid=52&parent=7240" target="_self">Planning Commission Meeting Materials</a>
LOCATION:City Hall - City Council Chambers\, 710 NW Wall Street Bend\, Oregon 97701
CLASS:PUBLIC
END:VEVENT
END:VCALENDAR
