BEGIN:VCALENDAR
VERSION:2.0
PRODID:City of Bend Calendar Creator
METHOD:PUBLISH
BEGIN:VEVENT
DTSTAMP:20160825T180041
DTSTART:20120409T173000
DTEND:20120409T235900
SUMMARY:Bend Planning Commission
DESCRIPTION:No meeting materials are available at this time.&nbsp; Meeting materials are usually posted within seven days of the Planning Commission meeting.
X-ALT-DESC;FMTTYPE=text/html:No meeting materials are available at this time.&nbsp; Meeting materials are usually posted within seven days of the Planning Commission meeting.
LOCATION:City Hall - City Council Chambers\, 710 NW Wall Street Bend\, Oregon 97701
CLASS:PUBLIC
END:VEVENT
END:VCALENDAR
