BEGIN:VCALENDAR
VERSION:2.0
PRODID:City of Bend Calendar Creator
METHOD:PUBLISH
BEGIN:VEVENT
DTSTAMP:20160825T180041
DTSTART:20120625T173000
DTEND:20120625T235900
SUMMARY:Bend Planning Commission
DESCRIPTION:<p>The meeting scheduled for 6-25-12 has been cancelled.&nbsp; </p><p>No meeting materials are available at this time.&nbsp; Meeting materials are usually posted within seven days of the Planning Commission meeting.</p>
X-ALT-DESC;FMTTYPE=text/html:<p>The meeting scheduled for 6-25-12 has been cancelled.&nbsp; </p><p>No meeting materials are available at this time.&nbsp; Meeting materials are usually posted within seven days of the Planning Commission meeting.</p>
LOCATION:City Hall - City Council Chambers\, 710 NW Wall Street Bend\, Oregon 97701
CLASS:PUBLIC
END:VEVENT
END:VCALENDAR
