BEGIN:VCALENDAR
VERSION:2.0
PRODID:City of Bend Calendar Creator
METHOD:PUBLISH
BEGIN:VEVENT
DTSTAMP:20160825T180041
DTSTART:20120813T173000
DTEND:20120813T235900
SUMMARY:Bend Planning Commission
DESCRIPTION:<a href="https://bendoregon.prod-as.govaccess.org/home/showpublisheddocument/9176" target="_blank">August 13, 2012 Agenda</a>
X-ALT-DESC;FMTTYPE=text/html:<a href="https://bendoregon.prod-as.govaccess.org/home/showpublisheddocument/9176" target="_blank">August 13, 2012 Agenda</a>
LOCATION:City Hall - City Council Chambers\, 710 NW Wall Street Bend\, Oregon 97701
CLASS:PUBLIC
END:VEVENT
END:VCALENDAR
