BEGIN:VCALENDAR
VERSION:2.0
PRODID:City of Bend Calendar Creator
METHOD:PUBLISH
BEGIN:VEVENT
DTSTAMP:20220324T163824
DTSTART:20221018T180000
DTEND:20221018T235900
SUMMARY:Landmarks Commission
DESCRIPTION:<p>&nbsp;</p>
X-ALT-DESC;FMTTYPE=text/html:<p>&nbsp;</p>
LOCATION:virtual meeting platform or TBA\, 
CLASS:PUBLIC
END:VEVENT
END:VCALENDAR
