BEGIN:VCALENDAR
VERSION:2.0
PRODID:City of Bend Calendar Creator
METHOD:PUBLISH
BEGIN:VEVENT
DTSTAMP:20220429T110232
DTSTART:20220517T180000
DTEND:20220517T235900
SUMMARY:Landmarks Commission - canceled
DESCRIPTION:<p>The Landmarks Commission&nbsp;meeting scheduled for Tuesday, May 17th has been&nbsp;<a href="https://www.bendoregon.gov/home/showdocument?id=52932&amp;t=637868266941238749" target="_blank">canceled</a>. Apologies for any inconvenience.</p><p>The next scheduled Bend Landmarks Meeting is Tuesday, June 21, 2022. Thank you.</p><p>&nbsp;</p>
X-ALT-DESC;FMTTYPE=text/html:<p>The Landmarks Commission&nbsp;meeting scheduled for Tuesday, May 17th has been&nbsp;<a href="https://www.bendoregon.gov/home/showdocument?id=52932&amp;t=637868266941238749" target="_blank">canceled</a>. Apologies for any inconvenience.</p><p>The next scheduled Bend Landmarks Meeting is Tuesday, June 21, 2022. Thank you.</p><p>&nbsp;</p>
LOCATION:virtual meeting platform or TBA\, 
CLASS:PUBLIC
END:VEVENT
END:VCALENDAR
