BEGIN:VCALENDAR
VERSION:2.0
PRODID:City of Bend Calendar Creator
METHOD:PUBLISH
BEGIN:VEVENT
DTSTAMP:20220525T151909
DTSTART:20220526T120000
DTEND:20220526T130000
SUMMARY:BEDAB Special Meeting
DESCRIPTION:<p><b>BEDAB SPECIAL MEETING</b></p><p><b><a href="https://bendoregon.prod-as.govaccess.org/home/showpublisheddocument/53110/637890887314930000" target="_blank">AGENDA</a></b></p><p>This will be the first of two discussions on the annual Visit Bend Business Plan with members of the Bend Economic Development Advisory Board. Members will review the draft proposal and have the opportunity to ask questions. BEDAB will then develop a final recommendation at their meeting on June 6, 2022.</p><p><b>When: Thursday May 26, 2022 12:00pm to 1:00pm</b></p><p>This meeting will be held via Zoom.&nbsp;</p><p><b>To </b><a href="https://bendoregon-gov.zoom.us/j/82071901870?pwd=Vkw5Sm16YXpkbjdDbmMzN1YrMEdLdz09"><b>join&nbsp;via Computer&nbsp;(Zoom),&nbsp;click here</b></a><b> </b></p><p>Passcode&nbsp;(if required): <strong>754468</strong></p><p><b>Or you may&nbsp;call&nbsp;into the meeting&nbsp;</b></p><ul type="disc">    <li>United States Toll Free: 1-888-788-0099</li>    <li>United States Toll: 1-253-215-8782</li>    <li>Webinar ID: &nbsp;820 7190 1870##</li></ul><p>If you have&nbsp;<b>technical difficulties</b>&nbsp;connecting to the meeting, call 541-410-9341</p>
X-ALT-DESC;FMTTYPE=text/html:<p><b>BEDAB SPECIAL MEETING</b></p><p><b><a href="https://bendoregon.prod-as.govaccess.org/home/showpublisheddocument/53110/637890887314930000" target="_blank">AGENDA</a></b></p><p>This will be the first of two discussions on the annual Visit Bend Business Plan with members of the Bend Economic Development Advisory Board. Members will review the draft proposal and have the opportunity to ask questions. BEDAB will then develop a final recommendation at their meeting on June 6, 2022.</p><p><b>When: Thursday May 26, 2022 12:00pm to 1:00pm</b></p><p>This meeting will be held via Zoom.&nbsp;</p><p><b>To </b><a href="https://bendoregon-gov.zoom.us/j/82071901870?pwd=Vkw5Sm16YXpkbjdDbmMzN1YrMEdLdz09"><b>join&nbsp;via Computer&nbsp;(Zoom),&nbsp;click here</b></a><b> </b></p><p>Passcode&nbsp;(if required): <strong>754468</strong></p><p><b>Or you may&nbsp;call&nbsp;into the meeting&nbsp;</b></p><ul type="disc">    <li>United States Toll Free: 1-888-788-0099</li>    <li>United States Toll: 1-253-215-8782</li>    <li>Webinar ID: &nbsp;820 7190 1870##</li></ul><p>If you have&nbsp;<b>technical difficulties</b>&nbsp;connecting to the meeting, call 541-410-9341</p>
LOCATION:Zoom\, 
CLASS:PUBLIC
END:VEVENT
END:VCALENDAR
