BEGIN:VCALENDAR
VERSION:2.0
PRODID:City of Bend Calendar Creator
METHOD:PUBLISH
BEGIN:VEVENT
DTSTAMP:20220909T114551
DTSTART:20220910T110000
DTEND:20220910T170000
SUMMARY:Latino Fest
DESCRIPTION:<p><b><b>Latino Fest&nbsp;</b><br><b>11 a.m.&nbsp; - 5 p.m. Sahalee Park</b><i>, Madras, OR&nbsp;</i></b></p><p>Enjoy diverse cultures, live music, dancing, delicious food, community resource fair, piñatas, and games for kids!</p><p>Full detailed information found&nbsp;<a href="http://https//latinocommunityassociation.org/events/latino-fest/" target="_blank">here</a>.</p>
X-ALT-DESC;FMTTYPE=text/html:<p><b><b>Latino Fest&nbsp;</b><br><b>11 a.m.&nbsp; - 5 p.m. Sahalee Park</b><i>, Madras, OR&nbsp;</i></b></p><p>Enjoy diverse cultures, live music, dancing, delicious food, community resource fair, piñatas, and games for kids!</p><p>Full detailed information found&nbsp;<a href="http://https//latinocommunityassociation.org/events/latino-fest/" target="_blank">here</a>.</p>
LOCATION:Sahalee Park\, 1-99 SE 7th St Madras\, Oregon 97741
CLASS:PUBLIC
END:VEVENT
END:VCALENDAR
