BEGIN:VCALENDAR
VERSION:2.0
PRODID:City of Bend Calendar Creator
METHOD:PUBLISH
BEGIN:VEVENT
DTSTAMP:20220909T114657
DTSTART:20220912T100000
DTEND:20220912T120000
SUMMARY:Principles of Community: Living the Work
DESCRIPTION:<p><b>Principles of Community: Living the Work&nbsp;</b>&nbsp;<br><b>10 a.m. – 12 p.m.&nbsp;</b><i>Central Oregon Community College,&nbsp;</i>Wille Hall,&nbsp;2600 NW College Way, Bend</p><p>This interactive workshop will center on the Central Oregon Community College (COCC) "Principles of Community," which governs how we engage, encourage, and develop a plan for success.&nbsp; Facilitators will share current and future programs and projects that promote inclusive and welcoming spaces at COCC. Participants will work together to brainstorm ideas on how together we can model the Principles of Community in Central Oregon.&nbsp;</p>
X-ALT-DESC;FMTTYPE=text/html:<p><b>Principles of Community: Living the Work&nbsp;</b>&nbsp;<br><b>10 a.m. – 12 p.m.&nbsp;</b><i>Central Oregon Community College,&nbsp;</i>Wille Hall,&nbsp;2600 NW College Way, Bend</p><p>This interactive workshop will center on the Central Oregon Community College (COCC) "Principles of Community," which governs how we engage, encourage, and develop a plan for success.&nbsp; Facilitators will share current and future programs and projects that promote inclusive and welcoming spaces at COCC. Participants will work together to brainstorm ideas on how together we can model the Principles of Community in Central Oregon.&nbsp;</p>
LOCATION:Wille Hall\, Central Oregon Community College\, 2600 NW College Way Bend\, Oregon 97703
CLASS:PUBLIC
END:VEVENT
END:VCALENDAR
